BEGIN:VCALENDAR
VERSION:2.0
PRODID:-//ChamberMaster//Event Calendar 2.0//EN
METHOD:PUBLISH
X-PUBLISHED-TTL:P3D
REFRESH-INTERVAL:P3D
CALSCALE:GREGORIAN
BEGIN:VEVENT
DTSTART:20150607T190000Z
DTEND:20150607T190000Z
X-MICROSOFT-CDO-ALLDAYEVENT:FALSE
SUMMARY:JDRF Walk to Cure Diabetes
DESCRIPTION:JDRF is the nation's No. 1 charitable funder for type 1 diabetes research. It is hosting its first-ever Long Beach Walk to Cure Diabetes\, a 3-mile stroll along the City's waterfront that will include games\, music and treats for the whole family. Join us on June 7 to have fun and raise money to turn Type One into Type None.
X-ALT-DESC;FMTTYPE=text/html:JDRF is the nation&#39\;s No. 1 charitable funder for type 1 diabetes research. It is hosting its first-ever Long Beach Walk to Cure Diabetes\, a 3-mile stroll along the City&#39\;s waterfront that will include games\, music and treats for the whole family. Join us on June 7 to have fun and raise money to turn Type One into Type None.
LOCATION:Marina Green\, Long Beach
UID:e.1956.2457
SEQUENCE:3
DTSTAMP:20260424T023715Z
URL:https://business.lbchamber.com/events/details/jdrf-walk-to-cure-diabetes-06-07-2015-2457
END:VEVENT

END:VCALENDAR
