BEGIN:VCALENDAR
VERSION:2.0
PRODID:-//ChamberMaster//Event Calendar 2.0//EN
METHOD:PUBLISH
X-PUBLISHED-TTL:P3D
REFRESH-INTERVAL:P3D
CALSCALE:GREGORIAN
BEGIN:VEVENT
DTSTART:20180511T003000Z
DTEND:20180511T023000Z
X-MICROSOFT-CDO-ALLDAYEVENT:FALSE
SUMMARY:It's About T.I.M.E. Social Hour
DESCRIPTION:You're invited to The Guidance Center's 2nd Annual Social Hour benefiting our It's About T.I.M.E. program! This year the event will be held on Thursday\, May 10th at 5:30pm-7:30pm at Great Society Cider & Mead in downtown Long Beach. Because of your support\, It's About T.I.M.E. (Trauma-Informed Movement in Education) has spread to another LBUSD school - Poly Academy of Achievers and Leaders (PAAL) - and has begun partnering with LBUSD's Head Start since last year's Social Hour event! More educators have been equipped with the trauma-informed lens and It's About T.I.M.E. Calming Toolkits\, meaning more students have been supported through trauma-informed relationships. You can read all about it on our blog: https://www.tgclb.org/category/trauma-informed/ ! The community plays a critical part in the success of the program\, which is why we'd love for you to join us for this event. YOU can help us keep the movement spreading throughout Long Beach!
X-ALT-DESC;FMTTYPE=text/html:You&#39\;re invited to The Guidance Center&#39\;s 2nd Annual Social Hour benefiting our It&#39\;s About T.I.M.E. program! This year the event will be held on Thursday\, May 10th at 5:30pm-7:30pm at Great Society Cider &amp\; Mead in downtown Long Beach. Because of your support\, It&#39\;s About T.I.M.E. (Trauma-Informed Movement in Education) has spread to another LBUSD school - Poly Academy of Achievers and Leaders (PAAL) - and has begun partnering with LBUSD&#39\;s Head Start since last year&#39\;s Social Hour event! More educators have been equipped with the trauma-informed lens and It&#39\;s About T.I.M.E. Calming Toolkits\, meaning more students have been supported through trauma-informed relationships. You can read all about it on our blog: https://www.tgclb.org/category/trauma-informed/ ! The community plays a critical part in the success of the program\, which is why we&#39\;d love for you to join us for this event. YOU can help us keep the movement spreading throughout Long Beach!
LOCATION:Great Society Cider & Mead 601 E. Broadway Long Beach\, CA 90802
UID:e.1956.4285
SEQUENCE:3
DTSTAMP:20260420T143122Z
URL:https://business.lbchamber.com/events/details/it-s-about-t-i-m-e-social-hour-4285
END:VEVENT

END:VCALENDAR
