BEGIN:VCALENDAR
VERSION:2.0
PRODID:-//ChamberMaster//Event Calendar 2.0//EN
METHOD:PUBLISH
X-PUBLISHED-TTL:P3D
REFRESH-INTERVAL:P3D
CALSCALE:GREGORIAN
BEGIN:VEVENT
DTSTART:20151026T000000Z
DTEND:20151026T030000Z
X-MICROSOFT-CDO-ALLDAYEVENT:FALSE
SUMMARY:Island Fantasy
DESCRIPTION:Gala fundraising dinner and auction for Assistance League of Long Beach philanthropic programs: Operation School Bell\, Orthodontic Center\, Scholarships\, Kids of the Block\, ALa Carte\, Howard and Asian Art Collection\, Mentoring
X-ALT-DESC;FMTTYPE=text/html:Gala fundraising dinner and auction for Assistance League of Long Beach philanthropic programs: Operation School Bell\, Orthodontic Center\, Scholarships\, Kids of the Block\, ALa Carte\, Howard and Asian Art Collection\, Mentoring
LOCATION:Hotel Maya
UID:e.1956.2494
SEQUENCE:3
DTSTAMP:20260423T233632Z
URL:https://business.lbchamber.com/events/details/island-fantasy-10-25-2015-2494
END:VEVENT

END:VCALENDAR
