BEGIN:VCALENDAR
VERSION:2.0
PRODID:-//ChamberMaster//Event Calendar 2.0//EN
METHOD:PUBLISH
X-PUBLISHED-TTL:P3D
REFRESH-INTERVAL:P3D
CALSCALE:GREGORIAN
BEGIN:VEVENT
DTSTART:20150520T150000Z
DTEND:20150520T220000Z
X-MICROSOFT-CDO-ALLDAYEVENT:FALSE
SUMMARY:Introducing the ASEAN Economic Community. "One Vision\, One Identity\, One Community".
DESCRIPTION:Join us in welcoming the ASEAN Economic Community. Celebrate the regional economic integration of ten Southeast Asian countries to establish itself as a single market and production base with the goal of making ASEAN more dynamic and competitive. These are very exciting times! Meet Consul Generals and Country representatives. Register today at:\n\n \n\nhttp://tinyurl.com/ASEAN15
X-ALT-DESC;FMTTYPE=text/html:<span style="color: rgb(0\, 0\, 0)\; font-family: 'Times New Roman'\, serif\; font-size: 16px\; line-height: normal\;">Join us in welcoming the ASEAN Economic Community. Celebrate the regional economic integration of ten Southeast Asian countries to establish itself as a single market and production base with the goal of making ASEAN more dynamic and competitive. These are very exciting times! Meet Consul Generals and Country representatives. Register today at:</span><br />\n&nbsp\;<br />\n<strong><span style="color:black\;"><span style="font-size:14pt\;"><a href="http://tinyurl.com/ASEAN15" style="color:rgb(17\, 85\, 204)\;" target="_blank"><span style="color:blue\;">http://tinyurl.com/ASEAN15</span></a></span></span></strong>
LOCATION:Crowne Plaza Los Angeles Harbor Hotel 601 S. Palos Verdes St.\, San Pedro\, CA 90731
UID:e.1956.2450
SEQUENCE:3
DTSTAMP:20260424T033617Z
URL:https://business.lbchamber.com/events/details/introducing-the-asean-economic-community-one-vision-one-identity-one-community-05-20-2015-2450
END:VEVENT

END:VCALENDAR
