BEGIN:VCALENDAR
VERSION:2.0
PRODID:-//ChamberMaster//Event Calendar 2.0//EN
METHOD:PUBLISH
X-PUBLISHED-TTL:P3D
REFRESH-INTERVAL:P3D
CALSCALE:GREGORIAN
BEGIN:VEVENT
DTSTART:20140429T003000Z
DTEND:20140429T023000Z
X-MICROSOFT-CDO-ALLDAYEVENT:FALSE
SUMMARY:International Business Association Mixer
DESCRIPTION:Please join us!  We will also be having the final judging of our World Trade Week Student Poster Contest! Stop by and vote for your favorites.
X-ALT-DESC;FMTTYPE=text/html:<span style="font-size:14px\;"><span style="font-family:times new roman\;">Please join us!&nbsp\; We will also be having the final&nbsp\;judging of our <span style="font-weight:bold\;language:en-US\;">World Trade Week Student&nbsp\;Poster Contest!</span> Stop by and vote for your favorites.</span></span><br />\n&nbsp\;
LOCATION:Hotel Maya Luna Solstice Room 700 Queensway Drive\, Long Beach\, 90802 Complimentary Parking
UID:e.1956.1241
SEQUENCE:3
DTSTAMP:20260422T152306Z
URL:https://business.lbchamber.com/events/details/international-business-association-mixer-04-28-2014-1241
END:VEVENT

END:VCALENDAR
