BEGIN:VCALENDAR
VERSION:2.0
PRODID:-//ChamberMaster//Event Calendar 2.0//EN
METHOD:PUBLISH
X-PUBLISHED-TTL:P3D
REFRESH-INTERVAL:P3D
CALSCALE:GREGORIAN
BEGIN:VEVENT
DTSTART:20201026T220000Z
DTEND:20201027T000000Z
X-MICROSOFT-CDO-ALLDAYEVENT:FALSE
SUMMARY:Increasing Customer Engagement During Challenging Times
DESCRIPTION:In this talk\, David Mitroff\, Ph.D. discusses the best ways for individuals and businesses to increase and maintain customer engagement. Learn more about how to use email marketing\, virtual events\, virtual networking\, and more. David Mitroff\, Ph.D. uses practical case studies from his work and presents new and creative strategies that allow individuals and businesses to continue and increase engagement with their customers even under current conditions. \n\n\n\nKey Learning Points:\n\n- How to consistently stay top of mind with your connections\n\n- How to create loyalty from the very first point of contact\n\n- Creative ways to leverage email marketing and social media platforms increase engagement\n\n- How to use events (virtual and live) to grow your value to your connections\n\n- Using virtual networking to connect and provide opportunities for engagement\n\n\n\nAbout the Speaker: David Mitroff\, Ph.D. who is the Founder and Chief Consultant at Piedmont Avenue Consulting\, Inc. (www.PiedmontAve.com)\, a consulting and marketing firm with a proven track record of producing results. David and his team advise clients on leveraging technology for creative initiatives from strategy through implementation.\n\n\n\nThe SBDC hosted by Long Beach City College\n\nThe Small Business Development Center (SBDC) has been hosted by Long Beach City College since 2006 and has helped thousands of area business owners increase their sales\, obtain loans\, streamline operations\, utilize new technologies\, expand into new markets\, and position themselves for long-term growth. We are apart of the Los Angeles Regional SBDC Network\, which assists small business owners throughout the Los Angeles\, Santa Barbara and Ventura Counties. Our experienced SBDC team is comprised of former entrepreneurs\, bankers\, product managers\, technology experts\, and business professionals dedicated to helping you grow your business.\n\n\n\nContact us at (562) 938-5100 or go to longbeachsbdc.org/services/we-can-help/ to schedule your appointment.
X-ALT-DESC;FMTTYPE=text/html:<span style="background-image:initial\;background-position:initial\;background-size:initial\;background-repeat:initial\;background-attachment:initial\;background-origin:initial\;background-clip:initial\;"><span style="color:#232333\;"><span style="font-size:10.5pt\;">In this talk\, David Mitroff\, Ph.D. discusses the best ways for individuals and businesses to increase and maintain customer engagement.&nbsp\;Learn more about how to use email marketing\, virtual events\, virtual networking\, and more. David Mitroff\, Ph.D.&nbsp\;uses practical case studies from his work and presents new and creative strategies that allow individuals and businesses&nbsp\;to continue and increase engagement with their customers even under current conditions.</span></span></span>&#8232\;<br />\n<br />\n<span style="color:#232333\;"><span style="font-size:10.5pt\;"><span style="background-image:initial\;background-position:initial\;background-size:initial\;background-repeat:initial\;background-attachment:initial\;background-origin:initial\;background-clip:initial\;">Key Learning Points:</span><br />\n<span style="background-image:initial\;background-position:initial\;background-size:initial\;background-repeat:initial\;background-attachment:initial\;background-origin:initial\;background-clip:initial\;">- How to consistently stay top of mind with your connections</span><br />\n<span style="background-image:initial\;background-position:initial\;background-size:initial\;background-repeat:initial\;background-attachment:initial\;background-origin:initial\;background-clip:initial\;">- How to create loyalty from the very first point of contact</span><br />\n<span style="background-image:initial\;background-position:initial\;background-size:initial\;background-repeat:initial\;background-attachment:initial\;background-origin:initial\;background-clip:initial\;">- Creative ways to leverage email marketing and social media platforms increase engagement</span><br />\n<span style="background-image:initial\;background-position:initial\;background-size:initial\;background-repeat:initial\;background-attachment:initial\;background-origin:initial\;background-clip:initial\;">- How to use events (virtual and live) to grow your value to your connections</span><br />\n<span style="background-image:initial\;background-position:initial\;background-size:initial\;background-repeat:initial\;background-attachment:initial\;background-origin:initial\;background-clip:initial\;">- Using virtual networking to connect and provide opportunities for engagement</span><br />\n<br />\n<span style="background-image:initial\;background-position:initial\;background-size:initial\;background-repeat:initial\;background-attachment:initial\;background-origin:initial\;background-clip:initial\;">About the Speaker: David Mitroff\, Ph.D. who is the Founder and Chief Consultant at Piedmont Avenue Consulting\, Inc. (www.PiedmontAve.com)\, a consulting and marketing firm with a proven track record of producing results. David and his team advise clients on leveraging technology for creative initiatives from strategy through implementation.</span><br />\n<br />\n<span style="background-image:initial\;background-position:initial\;background-size:initial\;background-repeat:initial\;background-attachment:initial\;background-origin:initial\;background-clip:initial\;">The SBDC hosted by Long Beach City College</span><br />\n<span style="background-image:initial\;background-position:initial\;background-size:initial\;background-repeat:initial\;background-attachment:initial\;background-origin:initial\;background-clip:initial\;">The Small Business Development Center (SBDC) has been hosted by Long Beach City College since 2006 and has helped thousands of area business owners increase their sales\, obtain loans\, streamline operations\, utilize new technologies\, expand into new markets\, and position themselves for long-term growth. We are apart of the Los Angeles Regional SBDC Network\, which assists small business owners throughout the Los Angeles\, Santa Barbara and Ventura Counties. Our experienced SBDC team is comprised of former entrepreneurs\, bankers\, product managers\, technology experts\, and business professionals dedicated to helping you grow your business.</span><br />\n<br />\n<span style="background-image:initial\;background-position:initial\;background-size:initial\;background-repeat:initial\;background-attachment:initial\;background-origin:initial\;background-clip:initial\;">Contact us at (562) 938-5100 or go to longbeachsbdc.org/services/we-can-help/ to schedule your appointment.</span></span></span>
LOCATION:Virtual (Zoom)
UID:e.1956.4954
SEQUENCE:3
DTSTAMP:20260420T230925Z
URL:https://business.lbchamber.com/events/details/increasing-customer-engagement-during-challenging-times-4954
END:VEVENT

END:VCALENDAR
