BEGIN:VCALENDAR
VERSION:2.0
PRODID:-//ChamberMaster//Event Calendar 2.0//EN
METHOD:PUBLISH
X-PUBLISHED-TTL:P3D
REFRESH-INTERVAL:P3D
CALSCALE:GREGORIAN
BEGIN:VEVENT
DTSTART:20250927T160000Z
DTEND:20250927T190000Z
X-MICROSOFT-CDO-ALLDAYEVENT:FALSE
SUMMARY:ICAN Pancake Fundraiser
DESCRIPTION:We're excited to invite you to ICAN Long Beach's Pancake Breakfast on Saturday\, September 27th\, from 9:00 am to 12:00 pm at our Long Beach Location. Come enjoy a pancake bar\, coffee cart\, raffles\, photo booth\, ICAN merchandise\, and client-made goods\, all while supporting a great cause. Tickets are just $15\, and every dollar goes directly toward new program equipment and supplies that help us serve our clients. Sponsorship opportunities are also available for those who want to make an additional impact. At ICAN\, our mission is to empower adults with disabilities through life skills training\, employment services\, and social programming. We believe in helping every individual discover and achieve their own "I CAN" statement: ? "I CAN work!" ? "I CAN have friends!" ? "I CAN learn and contribute to my community!" By joining us\, you're not just enjoying breakfast\, you're investing in opportunities\, independence\, and joy for people with disabilities and their families. We'd love to see you there! If you can't attend\, you can still make a difference by donating or sponsoring the event.
X-ALT-DESC;FMTTYPE=text/html:We&rsquo\;re excited to invite you to ICAN Long Beach&rsquo\;s Pancake Breakfast on Saturday\, September 27th\, from 9:00 am to 12:00 pm at our Long Beach Location. Come enjoy a pancake bar\, coffee cart\, raffles\, photo booth\, ICAN merchandise\, and client-made goods\, all while supporting a great cause. Tickets are just $15\, and every dollar goes directly toward new program equipment and supplies that help us serve our clients. Sponsorship opportunities are also available for those who want to make an additional impact. At ICAN\, our mission is to empower adults with disabilities through life skills training\, employment services\, and social programming. We believe in helping every individual discover and achieve their own &ldquo\;I CAN&rdquo\; statement: ? &ldquo\;I CAN work!&rdquo\; ? &ldquo\;I CAN have friends!&rdquo\; ? &ldquo\;I CAN learn and contribute to my community!&rdquo\; By joining us\, you&rsquo\;re not just enjoying breakfast\, you&rsquo\;re investing in opportunities\, independence\, and joy for people with disabilities and their families. We&rsquo\;d love to see you there! If you can&rsquo\;t attend\, you can still make a difference by donating or sponsoring the event.
LOCATION:4200 East Pacific Coast Highway\, Suite 200\, Long Beach\, CA\, 90804
UID:e.1956.8393
SEQUENCE:3
DTSTAMP:20260425T172023Z
URL:https://business.lbchamber.com/events/details/ican-pancake-fundraiser-8393
END:VEVENT

END:VCALENDAR
