BEGIN:VCALENDAR
VERSION:2.0
PRODID:-//ChamberMaster//Event Calendar 2.0//EN
METHOD:PUBLISH
X-PUBLISHED-TTL:P3D
REFRESH-INTERVAL:P3D
CALSCALE:GREGORIAN
BEGIN:VEVENT
DTSTART:20190523T020000Z
DTEND:20190523T040000Z
X-MICROSOFT-CDO-ALLDAYEVENT:FALSE
SUMMARY:Iberico Tapas Tasting & Wine Pairing Dinner
DESCRIPTION:The dinner will be hosted by our classically trained Maestro Cortador "Master Carver" Raymond Pereira. Pereira created this menu as a homage to his time studying at Cinco Jotas in Spain\, the producer of the finest jamon in the world. who also created the menu for this incredible event. Tickets are $46 per person with a $30 optional wine\, sherry & port pairing. The wine pairing and education will be curated by Andres Olcina from Torres Winery in Spain. Tickets can be purchased by calling 562-495-1111 or visiting https://www.eventbrite.com/o/cafe-sevilla-20141009014. beach/promotions.
X-ALT-DESC;FMTTYPE=text/html:The dinner will be hosted by our classically trained Maestro Cortador &quot\;Master Carver&quot\; Raymond Pereira. Pereira created this menu as a homage to his time studying at Cinco Jotas in Spain\, the producer of the finest jamon in the world. who also created the menu for this incredible event. Tickets are $46 per person with a $30 optional wine\, sherry &amp\; port pairing. The wine pairing and education will be curated by Andres Olcina from Torres Winery in Spain. Tickets can be purchased by calling 562-495-1111 or visiting https://www.eventbrite.com/o/cafe-sevilla-20141009014. beach/promotions.
LOCATION:Cafe Sevilla 140 Pine Ave Long Beach\, CA 90802
UID:e.1956.4518
SEQUENCE:3
DTSTAMP:20260419T210726Z
URL:https://business.lbchamber.com/events/details/iberico-tapas-tasting-wine-pairing-dinner-4518
END:VEVENT

END:VCALENDAR
