BEGIN:VCALENDAR
VERSION:2.0
PRODID:-//ChamberMaster//Event Calendar 2.0//EN
METHOD:PUBLISH
X-PUBLISHED-TTL:P3D
REFRESH-INTERVAL:P3D
CALSCALE:GREGORIAN
BEGIN:VEVENT
DTSTART:20160525T183000Z
DTEND:20160525T203000Z
X-MICROSOFT-CDO-ALLDAYEVENT:FALSE
SUMMARY:IBA World Trade Week 2016 Luncheon
DESCRIPTION:Please join us in welcoming John Butler\, President & CEO\, World Shipping Council to Long Beach!  This year's theme for World Trade Week is "Global Synergies & Innovation".  One of the highlights of the event will be the WTW Student Poster Contest sponsored by Long Beach City College.
X-ALT-DESC;FMTTYPE=text/html:Please join us in welcoming John Butler\, President &amp\; CEO\, World Shipping Council to Long Beach! &nbsp\;This year&#39\;s theme for World Trade Week is &quot\;Global Synergies &amp\; Innovation&quot\;. &nbsp\;One of the highlights of the event will be the WTW Student Poster Contest sponsored by Long Beach City College.
LOCATION:The Westin Long Beach 333 E. Ocean Blvd. Long Beach\, 90802 Complimentary Parking
UID:e.1956.2776
SEQUENCE:3
DTSTAMP:20260420T114812Z
URL:https://business.lbchamber.com/events/details/iba-world-trade-week-2016-luncheon-05-25-2016-2776
END:VEVENT

END:VCALENDAR
