BEGIN:VCALENDAR
VERSION:2.0
PRODID:-//ChamberMaster//Event Calendar 2.0//EN
METHOD:PUBLISH
X-PUBLISHED-TTL:P3D
REFRESH-INTERVAL:P3D
CALSCALE:GREGORIAN
BEGIN:VEVENT
DTSTART:20150930T183000Z
DTEND:20150930T200000Z
X-MICROSOFT-CDO-ALLDAYEVENT:FALSE
SUMMARY:IBA "What is the Future of the Long Beach Airport?"
DESCRIPTION:JetBlue Airways has recently proposed that the Long Beach Municipal Airport build a U.S. Customs Facility in order to serve international flights. Last month\, the Long Beach City Council directed City Staff to review the Proposal and return with a plan review the proposal's feasibility.  \n\n     Come join us as Rob Mitchell\, Manager Government and Airport Affairs at JetBlue Airways\, discusses his company's proposal and what it could mean for the future of the Long Beach Airport.
X-ALT-DESC;FMTTYPE=text/html:<span class="TextRun SCX266506437" style="margin: 0px\; padding: 0px\; -webkit-user-select: text\; -webkit-user-drag: none\; -webkit-tap-highlight-color: transparent\; color: rgb(0\, 0\, 0)\; font-size: 12pt\; font-family: 'Trebuchet MS'\, sans-serif\; line-height: 19px\;" xml:lang="EN-US"><span class="NormalTextRun SCX266506437" style="margin: 0px\; padding: 0px\; -webkit-user-select: text\; -webkit-user-drag: none\; -webkit-tap-highlight-color: transparent\; background-color: inherit\;">JetBlue Airways</span></span><span class="TextRun SCX266506437" style="margin: 0px\; padding: 0px\; -webkit-user-select: text\; -webkit-user-drag: none\; -webkit-tap-highlight-color: transparent\; color: rgb(0\, 0\, 0)\; font-size: 12pt\; font-family: 'Trebuchet MS'\, sans-serif\; line-height: 19px\;" xml:lang="EN-US"><span class="NormalTextRun SCX266506437" style="margin: 0px\; padding: 0px\; -webkit-user-select: text\; -webkit-user-drag: none\; -webkit-tap-highlight-color: transparent\; background-color: inherit\;">&nbsp\;has recently proposed that&nbsp\;</span></span><span class="TextRun SCX266506437" style="margin: 0px\; padding: 0px\; -webkit-user-select: text\; -webkit-user-drag: none\; -webkit-tap-highlight-color: transparent\; color: rgb(0\, 0\, 0)\; font-size: 12pt\; font-family: 'Trebuchet MS'\, sans-serif\; line-height: 19px\;" xml:lang="EN-US"><span class="NormalTextRun SCX266506437" style="margin: 0px\; padding: 0px\; -webkit-user-select: text\; -webkit-user-drag: none\; -webkit-tap-highlight-color: transparent\; background-color: inherit\;">the Long Beach Municipal Airport build a U.S. Customs Facility in order to serve international flights. Last month\, the Long Beach City Council directed City Staff to review the Proposal and return with a plan review the proposal&#39\;s feasibility.&nbsp\;</span></span><span class="LineBreakBlob BlobObject SCX266506437" style="margin: 0px\; padding: 0px\; -webkit-user-select: text\; -webkit-user-drag: none\; -webkit-tap-highlight-color: transparent\; color: rgb(0\, 0\, 0)\; font-size: 12pt\; line-height: 19px\; font-family: 'Trebuchet MS'\, sans-serif\;"><span class="SCX266506437" style="margin: 0px\; padding: 0px\; -webkit-user-select: text\; -webkit-user-drag: none\; -webkit-tap-highlight-color: transparent\;">&nbsp\;</span></span><br class="SCX266506437" style="margin: 0px\; padding: 0px\; -webkit-user-select: text\; -webkit-user-drag: none\; -webkit-tap-highlight-color: transparent\;" />\n<span class="TextRun SCX266506437" style="margin: 0px\; padding: 0px\; -webkit-user-select: text\; -webkit-user-drag: none\; -webkit-tap-highlight-color: transparent\; color: rgb(0\, 0\, 0)\; font-size: 12pt\; font-family: 'Trebuchet MS'\, sans-serif\; line-height: 19px\;" xml:lang="EN-US"><span class="NormalTextRun SCX266506437" style="margin: 0px\; padding: 0px\; -webkit-user-select: text\; -webkit-user-drag: none\; -webkit-tap-highlight-color: transparent\; background-color: inherit\;">&nbsp\; &nbsp\; &nbsp\;</span></span><span class="TextRun SCX266506437" style="margin: 0px\; padding: 0px\; -webkit-user-select: text\; -webkit-user-drag: none\; -webkit-tap-highlight-color: transparent\; color: rgb(0\, 0\, 0)\; font-size: 12pt\; font-family: 'Trebuchet MS'\, sans-serif\; line-height: 19px\;" xml:lang="EN-US"><span class="NormalTextRun SCX266506437" style="margin: 0px\; padding: 0px\; -webkit-user-select: text\; -webkit-user-drag: none\; -webkit-tap-highlight-color: transparent\; background-color: inherit\;">Come join us as Rob Mitchell\,&nbsp\;</span></span><span class="TextRun SCX266506437" style="margin: 0px\; padding: 0px\; -webkit-user-select: text\; -webkit-user-drag: none\; -webkit-tap-highlight-color: transparent\; color: rgb(0\, 0\, 0)\; font-size: 12pt\; font-family: Arial\, sans-serif\; line-height: 18px\;" xml:lang="EN-US"><span class="NormalTextRun SCX266506437" style="margin: 0px\; padding: 0px\; -webkit-user-select: text\; -webkit-user-drag: none\; -webkit-tap-highlight-color: transparent\; background-color: inherit\;">Manager Government and Airport Affairs at JetBlue Airways\,&nbsp\;</span></span><span class="TextRun SCX266506437" style="margin: 0px\; padding: 0px\; -webkit-user-select: text\; -webkit-user-drag: none\; -webkit-tap-highlight-color: transparent\; color: rgb(0\, 0\, 0)\; font-size: 12pt\; font-family: 'Trebuchet MS'\, sans-serif\; line-height: 19px\;" xml:lang="EN-US"><span class="NormalTextRun SCX266506437" style="margin: 0px\; padding: 0px\; -webkit-user-select: text\; -webkit-user-drag: none\; -webkit-tap-highlight-color: transparent\; background-color: inherit\;">discusses his company&#39\;s proposal and what it could mean for the future of the Long Beach Airport.</span></span><span class="EOP SCX266506437" style="margin: 0px\; padding: 0px\; -webkit-user-select: text\; -webkit-user-drag: none\; -webkit-tap-highlight-color: transparent\; color: rgb(0\, 0\, 0)\; font-size: 12pt\; line-height: 19px\; font-family: 'Trebuchet MS'\, sans-serif\;">&nbsp\;</span>
LOCATION:The Westin Long Beach Hotel 333 E. Ocean Blvd. Long Beach\, CA 90802
UID:e.1956.2514
SEQUENCE:3
DTSTAMP:20260420T231454Z
URL:https://business.lbchamber.com/events/details/iba-what-is-the-future-of-the-long-beach-airport-09-30-2015-2514
END:VEVENT

END:VCALENDAR
