BEGIN:VCALENDAR
VERSION:2.0
PRODID:-//ChamberMaster//Event Calendar 2.0//EN
METHOD:PUBLISH
X-PUBLISHED-TTL:P3D
REFRESH-INTERVAL:P3D
CALSCALE:GREGORIAN
BEGIN:VEVENT
DTSTART:20150428T183000Z
DTEND:20150428T203000Z
X-MICROSOFT-CDO-ALLDAYEVENT:FALSE
SUMMARY:IBA UPS The Flow of Goods and Emerging Technology
DESCRIPTION:UPS:  The Visibility of\n\nthe Flow of Goods\n\n\n\nKeynote Speaker: Scott McCarley\, Senior Director\, International Solutions\n\nUnited Parcel Service
X-ALT-DESC;FMTTYPE=text/html:<strong><span style="font-size:16px\;"><span style="font-weight:bold\;"><span style="font-family:cambria\;">UPS:&nbsp\; The Visibility of<br />\nthe Flow of Goods</span></span></span></strong><br />\n<br />\n<span style="font-size:14px\;"><span style="font-family:tahoma\;"><span style="font-weight:bold\;language:en-US\;">Keynote Speaker: Scott McCarley\, Senior Director\, International Solutions<br />\nUnited Parcel Service</span></span></span><br />\n&nbsp\;
LOCATION:Renaissance Long Beach Hotel 111 East Ocean Blvd. Long Beach\, CA 90802 Complimentary Parking
UID:e.1956.2448
SEQUENCE:3
DTSTAMP:20260422T000540Z
URL:https://business.lbchamber.com/events/details/iba-ups-the-flow-of-goods-and-emerging-technology-04-28-2015-2448
END:VEVENT

END:VCALENDAR
