BEGIN:VCALENDAR
VERSION:2.0
PRODID:-//ChamberMaster//Event Calendar 2.0//EN
METHOD:PUBLISH
X-PUBLISHED-TTL:P3D
REFRESH-INTERVAL:P3D
CALSCALE:GREGORIAN
BEGIN:VEVENT
DTSTART:20160630T003000Z
DTEND:20160630T023000Z
X-MICROSOFT-CDO-ALLDAYEVENT:FALSE
SUMMARY:IBA Social Port Tour
DESCRIPTION:International Business Association Social\n\nPort of Long Beach Water Tour\n\nBring a light jacket or sweater.\n\nHors d'oeuvers and no-host bar will be provided.\n\n**The boat will depart promptly at 6pm**\n\n\nPlease RSVP as soon as possible!
X-ALT-DESC;FMTTYPE=text/html:<span style="line-height: 20.8px\;">International Business Association&nbsp\;Social</span><br style="line-height: 20.8px\;" />\n<span style="line-height: 20.8px\;">Port of Long Beach Water Tour</span>\n\n<div style="color: rgb(34\, 34\, 34)\; font-family: arial\, sans-serif\; font-size: 12.8px\; line-height: normal\;">Bring a light jacket or sweater.</div>\n\n<div style="color: rgb(34\, 34\, 34)\; font-family: arial\, sans-serif\; font-size: 12.8px\; line-height: normal\;">Hors&nbsp\;d&#39\;oeuvers&nbsp\;and no-host bar will be provided.</div>\n\n<div style="color: rgb(34\, 34\, 34)\; font-family: arial\, sans-serif\; font-size: 12.8px\; line-height: normal\;">**The boat will depart promptly at 6pm**</div>\n<br style="line-height: 20.8px\;" />\n<span style="line-height: 20.8px\;">Please RSVP as soon as possible!</span><br style="line-height: 20.8px\;" />\n&nbsp\;
LOCATION:Port of Long Beach Water Tour Meet at Dock 2 in downtown Long Beach by the Long Beach Aquarium (near 100 Aquarium Way) Parking: Please park in the Aquarium Parking Structure. Parking Validation will be provided.
UID:e.1956.2988
SEQUENCE:3
DTSTAMP:20260422T100210Z
URL:https://business.lbchamber.com/events/details/iba-social-port-tour-06-29-2016-2988
END:VEVENT

END:VCALENDAR
