BEGIN:VCALENDAR
VERSION:2.0
PRODID:-//ChamberMaster//Event Calendar 2.0//EN
METHOD:PUBLISH
X-PUBLISHED-TTL:P3D
REFRESH-INTERVAL:P3D
CALSCALE:GREGORIAN
BEGIN:VEVENT
DTSTART:20150220T193000Z
DTEND:20150220T213000Z
X-MICROSOFT-CDO-ALLDAYEVENT:FALSE
SUMMARY:IBA Long Beach Harbor Commissioner Bynum Luncheon
DESCRIPTION:Meet the Commissioner\n\nPlease join the Long Beach Chamber of Commerce's International Business Association\, Green Business Council and Women's Business Council for this exciting event!  We are honored to have our past IBA President\, Chamber Chairman of the Board and now Long Beach Harbor Commissioner Lou Anne Bynum come to talk to us about her role as a newly appointed Long Beach Harbor Commissioner.\n\n \n\nSalute to Education\n\nThis event will also serve as our "Salute to Education" luncheon as we honor three outstanding students.  Students were asked to participate in an Essay Contest\; writing about the theme "World Trade\, World Peace".  Each student chose to focus on one of these categories - International Commerce\, Environmental/Green Business Practices or Women Entrepreneurs of Business Leaders.  You will be able to hear each of the winning essays at this event.
X-ALT-DESC;FMTTYPE=text/html:<span style="font-size:11px\;"><span style="font-family:verdana\;"><em>Meet the Commissioner</em><br />\nPlease join the Long Beach Chamber of Commerce&rsquo\;s International Business Association\, Green Business Council and Women&rsquo\;s Business Council for this exciting event!&nbsp\; We are honored to have our past IBA President\, Chamber Chairman of the Board and now Long Beach Harbor Commissioner Lou Anne Bynum come to talk to us about her role as a newly appointed Long Beach Harbor Commissioner.<br />\n&nbsp\;<br />\n<em>Salute to Education</em><br />\nThis event will also serve as our &ldquo\;Salute to Education&rdquo\; luncheon as we honor three outstanding students.&nbsp\; Students were asked to participate in an Essay Contest\; writing about the theme &ldquo\;World Trade\, World Peace&rdquo\;.&nbsp\; Each student chose to focus on one of these categories - International Commerce\, Environmental/Green Business Practices or Women Entrepreneurs of Business Leaders.&nbsp\; You will be able to hear each of the winning essays at this event.&nbsp\;</span></span>
LOCATION:Renaissance Long Beach Hotel 111 E. Ocean Blvd.\, Long Beach 90802 Complimentary Parking
UID:e.1956.2391
SEQUENCE:3
DTSTAMP:20260422T013848Z
URL:https://business.lbchamber.com/events/details/iba-long-beach-harbor-commissioner-bynum-luncheon-02-20-2015-2391
END:VEVENT

END:VCALENDAR
