BEGIN:VCALENDAR
VERSION:2.0
PRODID:-//ChamberMaster//Event Calendar 2.0//EN
METHOD:PUBLISH
X-PUBLISHED-TTL:P3D
REFRESH-INTERVAL:P3D
CALSCALE:GREGORIAN
BEGIN:VEVENT
DTSTART:20140319T183000Z
DTEND:20140319T203000Z
X-MICROSOFT-CDO-ALLDAYEVENT:FALSE
SUMMARY:IBA Long Beach Airport Update
DESCRIPTION:Please join us as we take a look at the latest developments at the Long Beach Airport and its importance to the International business community. \n\n\n\nMario Rodriguez\, an award winning aviation expert with over 25 years experience in the private and public sectors. \n\n\n\nMr. Rodriguez was appointed as the Director of the Long Beach Airport in February 2009. During the time Mr. Rodriguez has been at the helm\, he has been able overcome the economic challenges facing our nation as well as the U.S. aviation industry\, while amassing an impressive list of accomplishments.\n\n\n\nThe Long Beach Airport has a staff of 125 and an annual operating budget of approximately $30 million. Currently there are 3 million passengers per year traveling in and out of Long Beach.
X-ALT-DESC;FMTTYPE=text/html:Please join us as we take a look at the&nbsp\;latest developments at the Long Beach&nbsp\;Airport and its importance to the&nbsp\;International business community.&nbsp\;<br />\n<br />\nMario Rodriguez\, an award winning&nbsp\;aviation expert with over 25 years&nbsp\;experience in the private and public sectors.&nbsp\;<br />\n<br />\nMr. Rodriguez was appointed as the&nbsp\;Director of the Long Beach Airport in&nbsp\;February 2009. During the time Mr.&nbsp\;Rodriguez has been at the helm\, he has&nbsp\;been able overcome the economic&nbsp\;challenges facing our nation as well as the U.S. aviation industry\, while amassing an impressive list of accomplishments.<br />\n<br />\nThe Long Beach Airport has a staff of 125 and an annual&nbsp\;operating budget of approximately $30 million. Currently there&nbsp\;are 3 million passengers per year traveling in and out of Long Beach.
LOCATION:Hotel Maya 700 Queensway Drive Long Beach\, CA 90802
UID:e.1956.1231
SEQUENCE:3
DTSTAMP:20260422T163854Z
URL:https://business.lbchamber.com/events/details/iba-long-beach-airport-update-03-19-2014-1231
END:VEVENT

END:VCALENDAR
