BEGIN:VCALENDAR
VERSION:2.0
PRODID:-//ChamberMaster//Event Calendar 2.0//EN
METHOD:PUBLISH
X-PUBLISHED-TTL:P3D
REFRESH-INTERVAL:P3D
CALSCALE:GREGORIAN
BEGIN:VEVENT
DTSTART:20141029T010000Z
DTEND:20141029T030000Z
X-MICROSOFT-CDO-ALLDAYEVENT:FALSE
SUMMARY:IBA\, GBC\, WBC Halloween Costume Mixer
DESCRIPTION:Halloween Costume Mixer\n\nWe're having a party.  You're in for a scare.\n\nIt's a Halloween bash.  So dress up if you dare.
X-ALT-DESC;FMTTYPE=text/html:<span style="font-size:16px\;"><span style="font-weight:bold\;language:en-US\;"><span style="color:#CC0001\;"><span style="font-family:one stroke script let\;">Halloween Costume Mixer</span></span></span></span><br />\n<span style="font-size:14px\;"><span style="font-family:one stroke script let\;">We&rsquo\;re having a party.&nbsp\; You&rsquo\;re in for a scare.</span><br />\n<span style="font-family:one stroke script let\;">It&rsquo\;s a Halloween bash.&nbsp\; So dress up if you dare.</span></span>
LOCATION:Wells Fargo 111 W. Ocean Blvd.\, Suite 100 Long Beach\, 90802 Free Parking
UID:e.1956.2316
SEQUENCE:3
DTSTAMP:20260422T065613Z
URL:https://business.lbchamber.com/events/details/iba-gbc-wbc-halloween-costume-mixer-10-28-2014-2316
END:VEVENT

END:VCALENDAR
