BEGIN:VCALENDAR
VERSION:2.0
PRODID:-//ChamberMaster//Event Calendar 2.0//EN
METHOD:PUBLISH
X-PUBLISHED-TTL:P3D
REFRESH-INTERVAL:P3D
CALSCALE:GREGORIAN
BEGIN:VEVENT
DTSTART:20201029T230000Z
DTEND:20201030T000000Z
X-MICROSOFT-CDO-ALLDAYEVENT:FALSE
SUMMARY:IBA Bridging the Gap Virtual Mixer
DESCRIPTION:Grab your favorite beverage and join us for IBA's first virtual mixer!\n\nTo kick off the event Dr. Noel Hacegaba will give us an update on the Port of Long Beach and the new bridge.  \n\nDr. Noel Hacegaba is the Deputy Executive Director of Administration and Operations for the Port of Long Beach. He is responsible for managing the day-to-day administrative and operating functions of the Port\, including finance\, human resources\, real estate\, business development\, operations\, communications and security.
X-ALT-DESC;FMTTYPE=text/html:<p><span style="font-size:16px\;"><span style="color: rgb(0\, 0\, 0)\; font-family: &quot\;DIN Next LT W01 Regular&quot\;\, &quot\;DIN Next LT Pro&quot\;\, &quot\;Helvetica Neue&quot\;\, Helvetica\, sans-serif\;">Grab your favorite beverage and join us for IBA&#39\;s first virtual mixer!</span></span></p>\n\n<p><span style="font-size:16px\;"><span style="color: rgb(0\, 0\, 0)\; font-family: &quot\;DIN Next LT W01 Regular&quot\;\, &quot\;DIN Next LT Pro&quot\;\, &quot\;Helvetica Neue&quot\;\, Helvetica\, sans-serif\;">To kick off the event Dr. Noel Hacegaba will give us an update on the Port of Long Beach and the new bridge.&nbsp\;&nbsp\;</span></span></p>\n\n<p><span style="font-size:16px\;"><span style="color: rgb(0\, 0\, 0)\; font-family: &quot\;DIN Next LT W01 Regular&quot\;\, &quot\;DIN Next LT Pro&quot\;\, &quot\;Helvetica Neue&quot\;\, Helvetica\, sans-serif\;">Dr. Noel Hacegaba is the Deputy Executive Director of Administration and Operations for the Port of Long Beach. He is responsible for managing the day-to-day administrative and operating functions of the Port\, including finance\, human resources\, real estate\, business development\, operations\, communications and security.</span></span></p>\n
LOCATION:Zoom
UID:e.1956.4941
SEQUENCE:3
DTSTAMP:20260421T004254Z
URL:https://business.lbchamber.com/events/details/iba-bridging-the-gap-virtual-mixer-4941
END:VEVENT

END:VCALENDAR
