BEGIN:VCALENDAR
VERSION:2.0
PRODID:-//ChamberMaster//Event Calendar 2.0//EN
METHOD:PUBLISH
X-PUBLISHED-TTL:P3D
REFRESH-INTERVAL:P3D
CALSCALE:GREGORIAN
BEGIN:VEVENT
DTSTART:20160920T003000Z
DTEND:20160920T023000Z
X-MICROSOFT-CDO-ALLDAYEVENT:FALSE
SUMMARY:IBA A Night in France Wine Tasting Mixer
DESCRIPTION:Please join us for a night of networking and wine tasting.  Bring plenty of business cards and invite a friend!
X-ALT-DESC;FMTTYPE=text/html:Please join us for a night of networking and wine tasting. &nbsp\;Bring plenty of business cards and invite a friend!
LOCATION:The Wine Country 2301 Redondo Avenue Signal Hill\, CA 90755 Plenty of Parking Available
UID:e.1956.3027
SEQUENCE:3
DTSTAMP:20260420T060444Z
URL:https://business.lbchamber.com/events/details/iba-a-night-in-france-wine-tasting-mixer-3027
END:VEVENT

END:VCALENDAR
