BEGIN:VCALENDAR
VERSION:2.0
PRODID:-//ChamberMaster//Event Calendar 2.0//EN
METHOD:PUBLISH
X-PUBLISHED-TTL:P3D
REFRESH-INTERVAL:P3D
CALSCALE:GREGORIAN
BEGIN:VEVENT
DTSTART:20200129T013000Z
DTEND:20200129T033000Z
X-MICROSOFT-CDO-ALLDAYEVENT:FALSE
SUMMARY:HSBC Long Beach Grand Opening
DESCRIPTION:Join us for our Grand Opening for our newest HSBC office located in the beautiful new 2nd and PCH shopping center.
X-ALT-DESC;FMTTYPE=text/html:Join us for our Grand Opening for our newest HSBC office located in the beautiful new 2nd and PCH shopping center.
LOCATION:6420 E Pacific Coast Hwy Suite 100 Long Beach\, CA 90803
UID:e.1956.4706
SEQUENCE:3
DTSTAMP:20260419T174149Z
URL:https://business.lbchamber.com/events/details/hsbc-long-beach-grand-opening-4706
END:VEVENT

END:VCALENDAR
