BEGIN:VCALENDAR
VERSION:2.0
PRODID:-//ChamberMaster//Event Calendar 2.0//EN
METHOD:PUBLISH
X-PUBLISHED-TTL:P3D
REFRESH-INTERVAL:P3D
CALSCALE:GREGORIAN
BEGIN:VEVENT
DTSTART:20211020T210000Z
DTEND:20211020T230000Z
X-MICROSOFT-CDO-ALLDAYEVENT:FALSE
SUMMARY:How To Use Instagram Hashtags To Get Ideal Clients
DESCRIPTION:Instagram ("IG") has over 200 million visits per day. There has been an 80% increase on Instagram Live\, and 60% of visitors say they discover new products on Instagram.\n\nIn this 6-week Webinar series\, instructor Deborah Deras will teach you how to sell on Instagram\, use hashtag strategies\, create compelling IG stories\, use Instagram Live\, and use IGTV and use Instagram Reels (The Tik Tok of Instagram).\n\n \n\nWEBINAR TWO \n\nWednesday\, October 20\, 2021\n\n2pm to 4pm\n\n \n\nOn Instagram\, hashtags are the key to targeting new clients/customers. Without the proper ones\, you will not be discovered\, but with the right ones\, you can gain attention for your brand from your ideal target market and current customers. And with the right hashtags\, you'll even generate strategic alliances.\n\nYou will learn:\n\n  What are hashtags?\n\n  Why aren't all hashtags created equal?\n\n  A case study of how a hashtag booked a $3\,500 client\n\n  How to make money from a hashtag\n\n  How many hashtags can you use\, and what should you use to attract ideal customers?\n\n  How to do market research on hashtags to come up in the feed\n\n  How to use hashtags in IG Stories\, and why.
X-ALT-DESC;FMTTYPE=text/html:<p style="box-sizing: border-box\; margin: 0px 0px 10px\; padding: 0px\; border: 0px\; font-variant-numeric: inherit\; font-variant-east-asian: inherit\; font-stretch: inherit\; line-height: 1.7\; font-family: &quot\;Proxima N W01 Light&quot\;\, Helvetica\, Arial\, sans-serif\; font-size: 18px\; vertical-align: baseline\; color: rgb(49\, 49\, 49)\;">Instagram (&ldquo\;IG&rdquo\;) has over 200 million visits per day. There has been an 80% increase on Instagram Live\, and 60% of visitors say they discover new products on Instagram.</p>\n\n<p style="box-sizing: border-box\; margin: 0px 0px 10px\; padding: 0px\; border: 0px\; font-variant-numeric: inherit\; font-variant-east-asian: inherit\; font-stretch: inherit\; line-height: 1.7\; font-family: &quot\;Proxima N W01 Light&quot\;\, Helvetica\, Arial\, sans-serif\; font-size: 18px\; vertical-align: baseline\; color: rgb(49\, 49\, 49)\;">In this 6-week Webinar series\, instructor Deborah Deras will teach you how to sell on Instagram\, use hashtag strategies\, create compelling IG stories\, use Instagram Live\, and use IGTV and use Instagram Reels (The Tik Tok of Instagram).</p>\n\n<p style="box-sizing: border-box\; margin: 0px 0px 10px\; padding: 0px\; border: 0px\; font-variant-numeric: inherit\; font-variant-east-asian: inherit\; font-stretch: inherit\; line-height: 1.7\; font-family: &quot\;Proxima N W01 Light&quot\;\, Helvetica\, Arial\, sans-serif\; font-size: 18px\; vertical-align: baseline\; color: rgb(49\, 49\, 49)\;">&nbsp\;<br style="box-sizing: border-box\;" />\n<span style="box-sizing: border-box\; margin: 0px\; padding: 0px\; border: 0px\; font-style: inherit\; font-variant: inherit\; font-weight: inherit\; font-stretch: inherit\; line-height: inherit\; font-family: inherit\; vertical-align: baseline\; color: rgb(128\, 0\, 0)\;"><span style="box-sizing: border-box\; margin: 0px\; padding: 0px\; border: 0px\; font-style: inherit\; font-variant: inherit\; font-weight: inherit\; font-stretch: inherit\; line-height: inherit\; font-family: &quot\;Proxima N W01 Smbd&quot\;\; vertical-align: baseline\;"><em style="box-sizing: border-box\; margin: 0px\; padding: 0px\; border: 0px\; font-variant: inherit\; font-weight: inherit\; font-stretch: inherit\; line-height: inherit\; font-family: inherit\; vertical-align: baseline\;">WEBINAR TWO&nbsp\;</em></span></span></p>\n\n<p style="box-sizing: border-box\; margin: 0px 0px 10px\; padding: 0px\; border: 0px\; font-variant-numeric: inherit\; font-variant-east-asian: inherit\; font-stretch: inherit\; line-height: 1.7\; font-family: &quot\;Proxima N W01 Light&quot\;\, Helvetica\, Arial\, sans-serif\; font-size: 18px\; vertical-align: baseline\; color: rgb(49\, 49\, 49)\;"><span style="box-sizing: border-box\; margin: 0px\; padding: 0px\; border: 0px\; font-style: inherit\; font-variant: inherit\; font-weight: inherit\; font-stretch: inherit\; line-height: inherit\; font-family: inherit\; vertical-align: baseline\; color: rgb(128\, 0\, 0)\;"><span style="box-sizing: border-box\; margin: 0px\; padding: 0px\; border: 0px\; font-style: inherit\; font-variant: inherit\; font-weight: inherit\; font-stretch: inherit\; line-height: inherit\; font-family: &quot\;Proxima N W01 Smbd&quot\;\; vertical-align: baseline\;">Wednesday\, October 20\, 2021</span></span></p>\n\n<p style="box-sizing: border-box\; margin: 0px 0px 10px\; padding: 0px\; border: 0px\; font-variant-numeric: inherit\; font-variant-east-asian: inherit\; font-stretch: inherit\; line-height: 1.7\; font-family: &quot\;Proxima N W01 Light&quot\;\, Helvetica\, Arial\, sans-serif\; font-size: 18px\; vertical-align: baseline\; color: rgb(49\, 49\, 49)\;"><span style="box-sizing: border-box\; margin: 0px\; padding: 0px\; border: 0px\; font-style: inherit\; font-variant: inherit\; font-weight: inherit\; font-stretch: inherit\; line-height: inherit\; font-family: inherit\; vertical-align: baseline\; color: rgb(128\, 0\, 0)\;"><span style="box-sizing: border-box\; margin: 0px\; padding: 0px\; border: 0px\; font-style: inherit\; font-variant: inherit\; font-weight: inherit\; font-stretch: inherit\; line-height: inherit\; font-family: &quot\;Proxima N W01 Smbd&quot\;\; vertical-align: baseline\;">2pm to 4pm</span></span></p>\n\n<p style="box-sizing: border-box\; margin: 0px 0px 10px\; padding: 0px\; border: 0px\; font-variant-numeric: inherit\; font-variant-east-asian: inherit\; font-stretch: inherit\; line-height: 1.7\; font-family: &quot\;Proxima N W01 Light&quot\;\, Helvetica\, Arial\, sans-serif\; font-size: 18px\; vertical-align: baseline\; color: rgb(49\, 49\, 49)\;">&nbsp\;</p>\n\n<p style="box-sizing: border-box\; margin: 0px 0px 10px\; padding: 0px\; border: 0px\; font-variant-numeric: inherit\; font-variant-east-asian: inherit\; font-stretch: inherit\; line-height: 1.7\; font-family: &quot\;Proxima N W01 Light&quot\;\, Helvetica\, Arial\, sans-serif\; font-size: 18px\; vertical-align: baseline\; color: rgb(49\, 49\, 49)\;">On Instagram\, hashtags are the key to targeting new clients/customers. Without the proper ones\, you will not be discovered\, but with the right ones\, you can gain attention for your brand from your ideal target market and current customers. And with the right hashtags\, you&rsquo\;ll even generate strategic alliances.</p>\n\n<p style="box-sizing: border-box\; margin: 0px 0px 10px\; padding: 0px\; border: 0px\; font-variant-numeric: inherit\; font-variant-east-asian: inherit\; font-stretch: inherit\; line-height: 1.7\; font-family: &quot\;Proxima N W01 Light&quot\;\, Helvetica\, Arial\, sans-serif\; font-size: 18px\; vertical-align: baseline\; color: rgb(49\, 49\, 49)\;"><span style="box-sizing: border-box\; margin: 0px\; padding: 0px\; border: 0px\; font-style: inherit\; font-variant: inherit\; font-weight: inherit\; font-stretch: inherit\; line-height: inherit\; font-family: &quot\;Proxima N W01 Smbd&quot\;\; vertical-align: baseline\;">You will learn:</span></p>\n\n<p style="box-sizing: border-box\; margin: 0px 0px 10px\; padding: 0px\; border: 0px\; font-variant-numeric: inherit\; font-variant-east-asian: inherit\; font-stretch: inherit\; line-height: 1.7\; font-family: &quot\;Proxima N W01 Light&quot\;\, Helvetica\, Arial\, sans-serif\; font-size: 18px\; vertical-align: baseline\; color: rgb(49\, 49\, 49)\;">&bull\; What are hashtags?<br style="box-sizing: border-box\;" />\n&bull\; Why aren&rsquo\;t all hashtags created equal?<br style="box-sizing: border-box\;" />\n&bull\; A case study of how a hashtag booked a $3\,500 client<br style="box-sizing: border-box\;" />\n&bull\; How to make money from a hashtag<br style="box-sizing: border-box\;" />\n&bull\; How many hashtags can you use\, and what should you use to attract ideal customers?<br style="box-sizing: border-box\;" />\n&bull\; How to do market research on hashtags to come up in the feed<br style="box-sizing: border-box\;" />\n&bull\; How to use hashtags in IG Stories\, and why.&nbsp\;&nbsp\;&nbsp\;&nbsp\;</p>\n
LOCATION:Webinar (Zoom)
UID:e.1956.5231
SEQUENCE:3
DTSTAMP:20260420T031224Z
URL:https://business.lbchamber.com/events/details/how-to-use-instagram-hashtags-to-get-ideal-clients-5231
END:VEVENT

END:VCALENDAR
