BEGIN:VCALENDAR
VERSION:2.0
PRODID:-//ChamberMaster//Event Calendar 2.0//EN
METHOD:PUBLISH
X-PUBLISHED-TTL:P3D
REFRESH-INTERVAL:P3D
CALSCALE:GREGORIAN
BEGIN:VEVENT
DTSTART:20201007T210000Z
DTEND:20201007T223000Z
X-MICROSOFT-CDO-ALLDAYEVENT:FALSE
SUMMARY:How To Effectively Use Social Media
DESCRIPTION:We all know we have to be on Social Media but how do we create a Social Media strategy given recent events\, taking into account all that's happening in the world? This comprehensive webinar will help you focus your energy and efforts on platforms that will connect you with current customers and new leads.\n\n\n\nYou will discover:\n\n  How to clarify Social Media marketing goals.\n\n  How to structure your messaging to reach your ideal target market.\n\n  Which social media platform(s) to be on.\n\n  How to authentically connect with your audience so they like and trust you.\n\n  How to schedule posts on various platforms.\n\n  Where to find great content that will engage your audience and encourage sharing.\n\n  Discover a powerful tool to immediately get engagement without spending a dime.\n\n\n\nInstructor and business advisor\, Deborah Deras\, has a Bachelor's in Marketing and a Master's in Education\, with over 16 years' experience as an entrepreneur. She works with clients to help them identify their target market and create a social media strategy\, set up platforms\, identify keywords using Google keyword planner.
X-ALT-DESC;FMTTYPE=text/html:<span style="font-size:16px\;"><span style="background:white\;"><span style="color:#232333\;">We all know we have to be on Social Media but how do we create a Social Media strategy given recent events\, taking into account all that&rsquo\;s happening in the world? This comprehensive webinar will help you focus your energy and efforts on platforms that will connect you with current customers and new leads.</span></span><br />\n<br />\n<span style="color:#232333\;"><strong><span style="background:white\;">You will discover:</span></strong><br />\n<span style="background:white\;">&ndash\; How to clarify Social Media marketing goals.</span><br />\n<span style="background:white\;">&ndash\; How to structure your messaging to reach your ideal target market.</span><br />\n<span style="background:white\;">&ndash\; Which social media platform(s) to be on.</span><br />\n<span style="background:white\;">&ndash\; How to authentically connect with your audience so they like and trust you.</span><br />\n<span style="background:white\;">&ndash\; How to schedule posts on various platforms.</span><br />\n<span style="background:white\;">&ndash\; Where to find great content that will engage your audience and encourage sharing.</span><br />\n<span style="background:white\;">&ndash\; Discover a powerful tool to immediately get engagement without spending a dime.</span><br />\n<br />\n<span style="background:white\;">Instructor and business advisor\, Deborah Deras\, has a Bachelor&rsquo\;s in Marketing and a Master&rsquo\;s in Education\, with over 16 years&rsquo\; experience as an entrepreneur. She works with clients to help them identify their target market and create a social media strategy\, set up platforms\, identify keywords using Google keyword planner.</span></span></span>
LOCATION:
UID:e.1956.4948
SEQUENCE:3
DTSTAMP:20260420T230939Z
URL:https://business.lbchamber.com/events/details/how-to-effectively-use-social-media-4948
END:VEVENT

END:VCALENDAR
