BEGIN:VCALENDAR
VERSION:2.0
PRODID:-//ChamberMaster//Event Calendar 2.0//EN
METHOD:PUBLISH
X-PUBLISHED-TTL:P3D
REFRESH-INTERVAL:P3D
CALSCALE:GREGORIAN
BEGIN:VEVENT
DTSTART:20180506T000000Z
DTEND:20180506T170000Z
X-MICROSOFT-CDO-ALLDAYEVENT:FALSE
SUMMARY:Holiday Rides to Get Home Safe
DESCRIPTION:Every day in America 27 people die as the result of a drunk driving car crash. As a personal injury lawyer\, I am all too familiar with these stories. I have seen first hand the devastation that a momentary lapse in judgment   getting behind the wheel after drinking   can cause. There are certain US holidays during which drunk driving is especially common. That's why I offer to pay for rides home during the seven most popular drinking holidays. If I can prevent even one drunk driving crash then it's money well spent. It's easy to participate. Simply make a choice\, the right choice\, to call an Uber\, Lyft\, or a good old-fashioned taxi if you've been drinking\, send me the bill\, and I'll reimburse you for the ride.
X-ALT-DESC;FMTTYPE=text/html:Every day in America 27 people die as the result of a drunk driving car crash. As a personal injury lawyer\, I am all too familiar with these stories. I have seen first hand the devastation that a momentary lapse in judgment &mdash\; getting behind the wheel after drinking &mdash\; can cause. There are certain US holidays during which drunk driving is especially common. That&rsquo\;s why I offer to pay for rides home during the seven most popular drinking holidays. If I can prevent even one drunk driving crash then it&rsquo\;s money well spent. It&rsquo\;s easy to participate. Simply make a choice\, the right choice\, to call an Uber\, Lyft\, or a good old-fashioned taxi if you&rsquo\;ve been drinking\, send me the bill\, and I&rsquo\;ll reimburse you for the ride.
LOCATION:
UID:e.1956.4290
SEQUENCE:3
DTSTAMP:20260420T143845Z
URL:https://business.lbchamber.com/events/details/holiday-rides-to-get-home-safe-05-05-2018-4290
END:VEVENT

END:VCALENDAR
