BEGIN:VCALENDAR
VERSION:2.0
PRODID:-//ChamberMaster//Event Calendar 2.0//EN
METHOD:PUBLISH
X-PUBLISHED-TTL:P3D
REFRESH-INTERVAL:P3D
CALSCALE:GREGORIAN
BEGIN:VEVENT
DTSTART:20151108T220000Z
DTEND:20151109T010000Z
X-MICROSOFT-CDO-ALLDAYEVENT:FALSE
SUMMARY:Holiday Pop Up Shop Benefiting WomenShelter!
DESCRIPTION:Visit www.womenshelterlb.org/pop-up-shop-2015 to purchase your ticket today for WSLB?s Pop Up Shop Party! Visit www.womenshelterlb.org/pop-up-shop-2015 to purchase your ticket today for WSLB?s Pop Up Shop Party!Your ticket provides you access to a fun afternoon of hors d?oeuvres\, live music by Porter Singletary\, and designer jewelry at a special holiday prices. A portion of all sales will benefit WSLB. Shop with your heart\, be part of the solution this holiday season! Sponsored by McCarty's Jewelry and Boathouse on the Bay
X-ALT-DESC;FMTTYPE=text/html:Visit www.womenshelterlb.org/pop-up-shop-2015 to purchase your ticket today for WSLB?s Pop Up Shop Party! Visit www.womenshelterlb.org/pop-up-shop-2015 to purchase your ticket today for WSLB?s Pop Up Shop Party!Your ticket provides you access to a fun afternoon of hors d?oeuvres\, live music by Porter Singletary\, and designer jewelry at a special holiday prices. A portion of all sales will benefit WSLB. Shop with your heart\, be part of the solution this holiday season! Sponsored by McCarty&#39\;s Jewelry and Boathouse on the Bay
LOCATION:Boathouse on the Bay 190 N. Marina Dr. Long Beach CA 90803
UID:e.1956.2549
SEQUENCE:3
DTSTAMP:20260423T214133Z
URL:https://business.lbchamber.com/events/details/holiday-pop-up-shop-benefiting-womenshelter-11-08-2015-2549
END:VEVENT

END:VCALENDAR
