BEGIN:VCALENDAR
VERSION:2.0
PRODID:-//ChamberMaster//Event Calendar 2.0//EN
METHOD:PUBLISH
X-PUBLISHED-TTL:P3D
REFRESH-INTERVAL:P3D
CALSCALE:GREGORIAN
BEGIN:VEVENT
DTSTART:20151106T053000Z
DTEND:20151107T233000Z
X-MICROSOFT-CDO-ALLDAYEVENT:FALSE
SUMMARY:Holiday Boutique
DESCRIPTION:Over 30 vendors with great holiday gift items for friends and family. Proceeds benefit Assistance League of Long Beach philanthropic programs.
X-ALT-DESC;FMTTYPE=text/html:Over 30 vendors with great holiday gift items for friends and family. Proceeds benefit Assistance League of Long Beach philanthropic programs.
LOCATION:Assistance League of Long Beach Philanthropic Center\, 6220 E. Spring St.\, Long Beach 90815
UID:e.1956.2495
SEQUENCE:3
DTSTAMP:20260423T213738Z
URL:https://business.lbchamber.com/events/details/holiday-boutique-11-05-2015-2495
END:VEVENT

END:VCALENDAR
