BEGIN:VCALENDAR
VERSION:2.0
PRODID:-//ChamberMaster//Event Calendar 2.0//EN
METHOD:PUBLISH
X-PUBLISHED-TTL:P3D
REFRESH-INTERVAL:P3D
CALSCALE:GREGORIAN
BEGIN:VEVENT
DTSTART:20190711T020000Z
DTEND:20190711T020000Z
X-MICROSOFT-CDO-ALLDAYEVENT:FALSE
SUMMARY:Henry v at Valley Park
DESCRIPTION:Hermosa Beach - Valley Park Valley & Gould\, 2521 Valley Dr\, Hermosa Beach\, CA 90254 Wednesday\, July 10 at 7pm: Henry V ADMISSION IS FREE Henry V: Shakespeare's most patriotic and inspiring play tells of a young King Henry V who seeks to unite his beloved England. After laying claim to French lands and being ridiculed\, Henry marches off to war. Although sorely outnumbered\, Henry rallies his troops and achieves a decisive victory in the famous Battle of Agincourt. For audiences seeking quality\, family entertainment\, Shakespeare by the Sea's free performances can't be beat. Pack a picnic\, a blanket and beach chair\, gather loved ones\, and settle in under the stars for a night of classic entertainment. The tales are timeless\, the admission ticketless\, and the experience priceless. We may be coming to a park near you! Check our website for complete schedule of locations and show times. http://www.shakespearebythesea.org/wp/locations/ Entire Festival: June 13 - August 17 The Comedy of Errors: June 13 - August 17 Henry V: June 20 - August 16
X-ALT-DESC;FMTTYPE=text/html:Hermosa Beach - Valley Park Valley &amp\; Gould\, 2521 Valley Dr\, Hermosa Beach\, CA 90254 Wednesday\, July 10 at 7pm: Henry V ADMISSION IS FREE Henry V: Shakespeare&rsquo\;s most patriotic and inspiring play tells of a young King Henry V who seeks to unite his beloved England. After laying claim to French lands and being ridiculed\, Henry marches off to war. Although sorely outnumbered\, Henry rallies his troops and achieves a decisive victory in the famous Battle of Agincourt. For audiences seeking quality\, family entertainment\, Shakespeare by the Sea&#39\;s free performances can&#39\;t be beat. Pack a picnic\, a blanket and beach chair\, gather loved ones\, and settle in under the stars for a night of classic entertainment. The tales are timeless\, the admission ticketless\, and the experience priceless. We may be coming to a park near you! Check our website for complete schedule of locations and show times. http://www.shakespearebythesea.org/wp/locations/ Entire Festival: June 13 - August 17 The Comedy of Errors: June 13 - August 17 Henry V: June 20 - August 16
LOCATION:Hermosa Beach - Valley Park Valley & Gould\, 2521 Valley Dr\, Hermosa Beach\, CA 90254
UID:e.1956.4506
SEQUENCE:3
DTSTAMP:20260419T181107Z
URL:https://business.lbchamber.com/events/details/henry-v-at-valley-park-4506
END:VEVENT

END:VCALENDAR
