BEGIN:VCALENDAR
VERSION:2.0
PRODID:-//ChamberMaster//Event Calendar 2.0//EN
METHOD:PUBLISH
X-PUBLISHED-TTL:P3D
REFRESH-INTERVAL:P3D
CALSCALE:GREGORIAN
BEGIN:VEVENT
DTSTART:20190719T020000Z
DTEND:20190719T050000Z
X-MICROSOFT-CDO-ALLDAYEVENT:FALSE
SUMMARY:Henry V at Schabarum Regional Park
DESCRIPTION:Rowland Heights   Schabarum Regional Park 17250 E Colima Rd\, Rowland Heights\, CA 91748 Thursday\, July 18 at 7pm: Henry V ADMISSION IS FREE Henry V: Shakespeare's most patriotic and inspiring play tells of a young King Henry V who seeks to unite his beloved England. After laying claim to French lands and being ridiculed\, Henry marches off to war. Although sorely outnumbered\, Henry rallies his troops and achieves a decisive victory in the famous Battle of Agincourt. For audiences seeking quality\, family entertainment\, Shakespeare by the Sea's free performances can't be beat. Pack a picnic\, a blanket and beach chair\, gather loved ones\, and settle in under the stars for a night of classic entertainment. The tales are timeless\, the admission ticketless\, and the experience priceless. We may be coming to a park near you! Check our website for complete schedule of locations and show times. http://www.shakespearebythesea.org/wp/locations/ Entire Festival: June 13 - August 17 The Comedy of Errors: June 13 - August 17 Henry V: June 20 - August 16
X-ALT-DESC;FMTTYPE=text/html:Rowland Heights &ndash\; Schabarum Regional Park 17250 E Colima Rd\, Rowland Heights\, CA 91748 Thursday\, July 18 at 7pm: Henry V ADMISSION IS FREE Henry V: Shakespeare&rsquo\;s most patriotic and inspiring play tells of a young King Henry V who seeks to unite his beloved England. After laying claim to French lands and being ridiculed\, Henry marches off to war. Although sorely outnumbered\, Henry rallies his troops and achieves a decisive victory in the famous Battle of Agincourt. For audiences seeking quality\, family entertainment\, Shakespeare by the Sea&#39\;s free performances can&#39\;t be beat. Pack a picnic\, a blanket and beach chair\, gather loved ones\, and settle in under the stars for a night of classic entertainment. The tales are timeless\, the admission ticketless\, and the experience priceless. We may be coming to a park near you! Check our website for complete schedule of locations and show times. http://www.shakespearebythesea.org/wp/locations/ Entire Festival: June 13 - August 17 The Comedy of Errors: June 13 - August 17 Henry V: June 20 - August 16
LOCATION:Rowland Heights Schabarum Regional Park 17250 E Colima Rd\, Rowland Heights\, CA 91748
UID:e.1956.4504
SEQUENCE:3
DTSTAMP:20260419T193249Z
URL:https://business.lbchamber.com/events/details/henry-v-at-schabarum-regional-park-4504
END:VEVENT

END:VCALENDAR
