BEGIN:VCALENDAR
VERSION:2.0
PRODID:-//ChamberMaster//Event Calendar 2.0//EN
METHOD:PUBLISH
X-PUBLISHED-TTL:P3D
REFRESH-INTERVAL:P3D
CALSCALE:GREGORIAN
BEGIN:VEVENT
DTSTART:20140822T180000Z
DTEND:20140824T010000Z
X-MICROSOFT-CDO-ALLDAYEVENT:FALSE
SUMMARY:Handmade Shop Pop Up
DESCRIPTION:A special 2-Day only pop up shop featuring hand made jewelry\, candles\, lotion\, natural makeup\, and art from independent artists across the United States.
X-ALT-DESC;FMTTYPE=text/html:A special 2-Day only pop up shop featuring hand made jewelry\, candles\, lotion\, natural makeup\, and art from independent artists across the United States.
LOCATION:Fox & Moon Clothing\, 2746 E. Broadway\, Long Beach\, CA 90803
UID:e.1956.1264
SEQUENCE:3
DTSTAMP:20260424T154622Z
URL:https://business.lbchamber.com/events/details/handmade-shop-pop-up-08-22-2014-1264
END:VEVENT

END:VCALENDAR
