BEGIN:VCALENDAR
VERSION:2.0
PRODID:-//ChamberMaster//Event Calendar 2.0//EN
METHOD:PUBLISH
X-PUBLISHED-TTL:P3D
REFRESH-INTERVAL:P3D
CALSCALE:GREGORIAN
BEGIN:VEVENT
DTSTART:20151215T160000Z
DTEND:20151216T020000Z
X-MICROSOFT-CDO-ALLDAYEVENT:FALSE
SUMMARY:GROWTHCON 2015 Presented by Entrepreneur
DESCRIPTION:A DAY OF IDEAS FOR A YEAR OF SUCCESS Challenge your thinking and get fresh ideas\, hands-on tools\, powerful insights and strategies that work. Plus\, get in on the conversation with how-to sessions\, invaluable networking\, and an unforgettable awards ceremony presenting a total of $50\,000 to the winners of the Project Grow Challenge.
X-ALT-DESC;FMTTYPE=text/html:A DAY OF IDEAS FOR A YEAR OF SUCCESS Challenge your thinking and get fresh ideas\, hands-on tools\, powerful insights and strategies that work. Plus\, get in on the conversation with how-to sessions\, invaluable networking\, and an unforgettable awards ceremony presenting a total of $50\,000 to the winners of the Project Grow Challenge.
LOCATION:LONG BEACH CONVENTION CENTER 300 E Ocean Blvd Long Beach\, CA 90802
UID:e.1956.2557
SEQUENCE:3
DTSTAMP:20260423T203450Z
URL:https://business.lbchamber.com/events/details/growthcon-2015-presented-by-entrepreneur-12-15-2015-2557
END:VEVENT

END:VCALENDAR
