BEGIN:VCALENDAR
VERSION:2.0
PRODID:-//ChamberMaster//Event Calendar 2.0//EN
METHOD:PUBLISH
X-PUBLISHED-TTL:P3D
REFRESH-INTERVAL:P3D
CALSCALE:GREGORIAN
BEGIN:VEVENT
DTSTART:20180804T170000Z
DTEND:20180813T000000Z
X-MICROSOFT-CDO-ALLDAYEVENT:FALSE
SUMMARY:Greenpeace Arctic Sunrise Pacific Coast Tour
DESCRIPTION:Greenpeace's historic ship\, The Arctic Sunrise\, is coming to Long Beach! You're invited on board for a free public tour. Meet the crew\, experience the ship\, and learn about Greenpeace's work. All ages are welcome and families are encouraged. Ofreceremos recorridas en Espa ol!
X-ALT-DESC;FMTTYPE=text/html:Greenpeace&rsquo\;s historic ship\, The Arctic Sunrise\, is coming to Long Beach! You&rsquo\;re invited on board for a free public tour. Meet the crew\, experience the ship\, and learn about Greenpeace&rsquo\;s work. All ages are welcome and families are encouraged. Ofreceremos recorridas en Espa&ntilde\;ol!
LOCATION:Pine Avenue Pier in Rainbow Harbor\, 330 S Pine Ave\, Long Beach
UID:e.1956.4326
SEQUENCE:3
DTSTAMP:20260420T101000Z
URL:https://business.lbchamber.com/events/details/greenpeace-arctic-sunrise-pacific-coast-tour-4326
END:VEVENT

END:VCALENDAR
