BEGIN:VCALENDAR
VERSION:2.0
PRODID:-//ChamberMaster//Event Calendar 2.0//EN
METHOD:PUBLISH
X-PUBLISHED-TTL:P3D
REFRESH-INTERVAL:P3D
CALSCALE:GREGORIAN
BEGIN:VEVENT
DTSTART:20151118T160000Z
DTEND:20151118T173000Z
X-MICROSOFT-CDO-ALLDAYEVENT:FALSE
SUMMARY:Green Business Council - Powerstorm ESS Presentation & Tour
DESCRIPTION:Presentation & Tour of Powerstorm ESS (Energy Storage Solutions)
X-ALT-DESC;FMTTYPE=text/html:<strong>Presentation &amp\; Tour of Powerstorm ESS (Energy Storage Solutions)</strong>
LOCATION:Powerstrom ESS 31244 Rancho Palos Verdes Dr.\, West\, Suite 245 Rancho Palos Verdes\, CA 90275
UID:e.1956.2537
SEQUENCE:3
DTSTAMP:20260420T194920Z
URL:https://business.lbchamber.com/events/details/green-business-council-powerstorm-ess-presentation-tour-11-18-2015-2537
END:VEVENT

END:VCALENDAR
