BEGIN:VCALENDAR
VERSION:2.0
PRODID:-//ChamberMaster//Event Calendar 2.0//EN
METHOD:PUBLISH
X-PUBLISHED-TTL:P3D
REFRESH-INTERVAL:P3D
CALSCALE:GREGORIAN
BEGIN:VEVENT
DTSTART:20151021T150000Z
DTEND:20151021T163000Z
X-MICROSOFT-CDO-ALLDAYEVENT:FALSE
SUMMARY:Green Business Council - LD Products Tour
DESCRIPTION:Presentation and Tour of LD Products!  You won't want to miss this!
X-ALT-DESC;FMTTYPE=text/html:<span style="font-size:14px\;"><strong>Presentation and Tour of LD Products! &nbsp\;You won&#39\;t want to miss this! </strong>&nbsp\;</span>
LOCATION:LD Products 3700 Cover Street Long Beach\, CA 90808
UID:e.1956.2531
SEQUENCE:3
DTSTAMP:20260421T131850Z
URL:https://business.lbchamber.com/events/details/green-business-council-ld-products-tour-10-21-2015-2531
END:VEVENT

END:VCALENDAR
