BEGIN:VCALENDAR
VERSION:2.0
PRODID:-//ChamberMaster//Event Calendar 2.0//EN
METHOD:PUBLISH
X-PUBLISHED-TTL:P3D
REFRESH-INTERVAL:P3D
CALSCALE:GREGORIAN
BEGIN:VEVENT
DTSTART:20140630T003000Z
DTEND:20140630T050000Z
X-MICROSOFT-CDO-ALLDAYEVENT:FALSE
SUMMARY:Grape Expectations
DESCRIPTION:On Sunday\, June 29\, 2014\, we will host our ELEVENTH annual fundraising event\, Grape Expectations in the gorgeous Sculpture Garden Museum of Latin American Art. The evening will feature a five course dinner with perfectly paired wines to match each sensational course. Also includes live entertainment\, silent and live auction. All proceeds go to the Long Beach Public Library Foundation.
X-ALT-DESC;FMTTYPE=text/html:On Sunday\, June 29\, 2014\, we will host our ELEVENTH annual fundraising event\, Grape Expectations in the gorgeous Sculpture Garden Museum of Latin American Art. The evening will feature a five course dinner with perfectly paired wines to match each sensational course. Also includes live entertainment\, silent and live auction. All proceeds go to the Long Beach Public Library Foundation.
LOCATION:Museum of Latin American Art
UID:e.1956.1250
SEQUENCE:3
DTSTAMP:20260424T181335Z
URL:https://business.lbchamber.com/events/details/grape-expectations-06-29-2014-1250
END:VEVENT

END:VCALENDAR
