BEGIN:VCALENDAR
VERSION:2.0
PRODID:-//ChamberMaster//Event Calendar 2.0//EN
METHOD:PUBLISH
X-PUBLISHED-TTL:P3D
REFRESH-INTERVAL:P3D
CALSCALE:GREGORIAN
BEGIN:VEVENT
DTSTART:20150621T010000Z
DTEND:20150621T050000Z
X-MICROSOFT-CDO-ALLDAYEVENT:FALSE
SUMMARY:Grape Expectations
DESCRIPTION:The Long Beach Public Library Foundation proudly announces the 12th Annual Grape Expectations in partnership with the Port of Long Beach to celebrate the publication of Port Town. The event will feature a gourmet menu created by Executive Chef Joachim Weritz\, perfectly paired with fine wines from The Wine Country.
X-ALT-DESC;FMTTYPE=text/html:The Long Beach Public Library Foundation proudly announces the 12th Annual Grape Expectations in partnership with the Port of Long Beach to celebrate the publication of Port Town. The event will feature a gourmet menu created by Executive Chef Joachim Weritz\, perfectly paired with fine wines from The Wine Country.
LOCATION:Terrace Theater\, Long Beach
UID:e.1956.2431
SEQUENCE:3
DTSTAMP:20260424T023558Z
URL:https://business.lbchamber.com/events/details/grape-expectations-06-20-2015-2431
END:VEVENT

END:VCALENDAR
