BEGIN:VCALENDAR
VERSION:2.0
PRODID:-//ChamberMaster//Event Calendar 2.0//EN
METHOD:PUBLISH
X-PUBLISHED-TTL:P3D
REFRESH-INTERVAL:P3D
CALSCALE:GREGORIAN
BEGIN:VEVENT
DTSTART:20150522T143000Z
DTEND:20150525T020000Z
X-MICROSOFT-CDO-ALLDAYEVENT:FALSE
SUMMARY:Grand Opening 1/2 Off any oil change at Valvoline Instant Oil Change
DESCRIPTION:Valvoline Instant Oil Change will be giving away 1/2 OFF any oil change all memorial day weekend for the grand opening of its newest service center\,  3543 E. Anaheim St. Long Beach. Friday will kick off the weekend with a chamber of commerce ribbon cutting ceremony from 12:00pm-1:00pm. Saturday\, KLOS street team will be on-site with cool prizes. Sunday will wrap up the event continuing 1/2 OFF any oil change.\n\n\n\nCome by at any time during the weekend to see the new service center and get 1/2 OFF any oil change.
X-ALT-DESC;FMTTYPE=text/html:<span style="font-size:medium"><span style="font-family:calibri">Valvoline Instant Oil Change will be giving away 1/2 OFF any oil change all memorial day weekend for the grand opening of its newest service center\,&nbsp\; 3543 E. Anaheim St. Long Beach. Friday will kick off the weekend with a chamber of commerce ribbon cutting ceremony from 12:00pm-1:00pm. Saturday\, KLOS street team will be on-site with cool prizes. Sunday will wrap up the event continuing 1/2 OFF any oil change.<br />\n<br />\nCome by at any time during the weekend to see the new service center and get 1/2 OFF any oil change.</span></span>
LOCATION:3543 E. Anaheim Street Long Beach CA 90802
UID:e.1956.2460
SEQUENCE:3
DTSTAMP:20260424T033815Z
URL:https://business.lbchamber.com/events/details/grand-opening-1-2-off-any-oil-change-at-valvoline-instant-oil-change-05-22-2015-2460
END:VEVENT

END:VCALENDAR
