BEGIN:VCALENDAR
VERSION:2.0
PRODID:-//ChamberMaster//Event Calendar 2.0//EN
METHOD:PUBLISH
X-PUBLISHED-TTL:P3D
REFRESH-INTERVAL:P3D
CALSCALE:GREGORIAN
BEGIN:VEVENT
DTSTART:20190330T020000Z
DTEND:20190331T040000Z
X-MICROSOFT-CDO-ALLDAYEVENT:FALSE
SUMMARY:Good Friday 5:15
DESCRIPTION:An interactive experience that aims to bring to life Jerusalem on the day of Jesus' death through drama and setting. Visitors will take a short tour of Jerusalem and listen to eye-witnesses recount their view of the day's eventful happenings.
X-ALT-DESC;FMTTYPE=text/html:An interactive experience that aims to bring to life Jerusalem on the day of Jesus&#39\; death through drama and setting. Visitors will take a short tour of Jerusalem and listen to eye-witnesses recount their view of the day&#39\;s eventful happenings.
LOCATION:All Saints Anglican Cathedral 346 Termino Ave\, Long Beach\, CA
UID:e.1956.4432
SEQUENCE:3
DTSTAMP:20260419T235931Z
URL:https://business.lbchamber.com/events/details/good-friday-5-15-4432
END:VEVENT

END:VCALENDAR
