BEGIN:VCALENDAR
VERSION:2.0
PRODID:-//ChamberMaster//Event Calendar 2.0//EN
METHOD:PUBLISH
X-PUBLISHED-TTL:P3D
REFRESH-INTERVAL:P3D
CALSCALE:GREGORIAN
BEGIN:VEVENT
DTSTART:20161108T193000Z
DTEND:20161108T210000Z
X-MICROSOFT-CDO-ALLDAYEVENT:FALSE
SUMMARY:Good Afternoon Long Beach - November 2016
DESCRIPTION:Press Telegram: Who We Are\, Where We're Going\, and How You Fit In\n\n\n\nFeaturing Speaker: Leslie Lindemann\n\n General Manager/VP of Advertising - Press Telegram\n\nLeslie Lindemann is the general manager vice president of advertising for the Long Beach Press- Telegram and Torrance Daily Breeze. Lindemann oversees daily business operations and community partnerships in her role as general manager\, and guides the planning and execution of sales strategies as vice president of advertising. She specializes in helping local businesses maximize the value and   effectiveness of their marketing campaigns\, particularly in digital media through display\, mobile\, search\, social and email platforms. She joined the Press-Telegram and Daily Breeze in July 2015. Before that\, she worked at the Los Angeles Times for 29 years\, where she rose through the ranks from account executive to vice president of  advertising. Leslie and her husband are "empty nesters\," and recently relocated to Long Beach's Marina Pacifica community. \n\n\n\nAnd: Tom Bray\n\nSenior Editor - Press Telegram\n\nTom Bray is senior editor of the Press-Telegram\, and also serves as managing editor of news for the eleven daily newspapers and related websites within Southern California News Group. In this role\, Bray is responsible for the coordination of news coverage in Long Beach\, and oversees planning and reporting collaborations between newsrooms across the region. Bray most recently served as  managing editor of The Press-Enterprise in Riverside. He has experience in sports\, news and entertainment\, shooting and editing photos\, the copy desk and print and Web design. He served as a news editor in Palm Springs\, editor in Visalia and managing editor in San Bernardino\, Springfield and Missouri.
X-ALT-DESC;FMTTYPE=text/html:<b><i>Press Telegram: Who We Are\, Where We&#39\;re Going\, and How You Fit In</i><br />\n<br />\nFeaturing Speaker: Leslie Lindemann<br />\n&#8203\;General Manager/VP of Advertising - Press Telegram</b><br />\nLeslie Lindemann is the general manager vice president of advertising for the Long Beach Press- Telegram and Torrance Daily Breeze. Lindemann oversees daily business operations and community partnerships in her role as general manager\, and guides the planning and execution of sales strategies as vice president of advertising. She specializes in helping local businesses maximize the value and &nbsp\; effectiveness of their marketing campaigns\, particularly in digital media through display\, mobile\, search\, social and email platforms. She joined the Press-Telegram and Daily Breeze in July 2015. Before that\, she worked at the Los Angeles Times for 29 years\, where she rose through the ranks from account executive to vice president of &nbsp\;advertising. Leslie and her husband are &quot\;empty nesters\,&quot\; and recently relocated to Long Beach&#39\;s Marina Pacifica community.&nbsp\;<br />\n<br />\n<strong>And: Tom Bray<br />\nSenior Editor - Press Telegram</strong><br />\nTom Bray is senior editor of the Press-Telegram\, and also serves as managing editor of news for the eleven daily newspapers and related websites within Southern California News Group. In this role\, Bray is responsible for the coordination of news coverage in Long Beach\, and oversees planning and reporting collaborations between newsrooms across the region. Bray most recently served as &nbsp\;managing editor of The Press-Enterprise in Riverside. He has experience in sports\, news and entertainment\, shooting and editing photos\, the copy desk and print and Web design. He served as a news editor in Palm Springs\, editor in Visalia and managing editor in San Bernardino\, Springfield and Missouri.
LOCATION:Parkers' Lighthouse 435 Shoreline Village Drive Long Beach\, CA 90802
UID:e.1956.2603
SEQUENCE:3
DTSTAMP:20260420T025350Z
URL:https://business.lbchamber.com/events/details/good-afternoon-long-beach-november-2016-2603
END:VEVENT

END:VCALENDAR
