BEGIN:VCALENDAR
VERSION:2.0
PRODID:-//ChamberMaster//Event Calendar 2.0//EN
METHOD:PUBLISH
X-PUBLISHED-TTL:P3D
REFRESH-INTERVAL:P3D
CALSCALE:GREGORIAN
BEGIN:VEVENT
DTSTART:20140422T183000Z
DTEND:20140422T200000Z
X-MICROSOFT-CDO-ALLDAYEVENT:FALSE
SUMMARY:Good Afternoon Long Beach Business Networking Lunch ANNUAL MEETING
DESCRIPTION:Join us on Tuesday\, April 22\, 2014 for a business networking lunch and annual meeting at Forbidden City Restaurant from 11:30am - 1:00pm. \n\n \n\nThe purpose of the Chamber Annual Meeting is to elect the new third-year term Board of Directors for the 2014-2015 Fiscal Year.\n \n\nCome and network with local businesses and Chamber Board Directors\, past\, present and future!\n \n\nBuffet lunch is included with admission.\n\n\n\nMembers pay only  $20. Non-Members pay $30.\n\nPre-registration is strongly suggested!
X-ALT-DESC;FMTTYPE=text/html:<span style="color: rgb(0\, 0\, 0)\; font-family: Arial\, Helvetica\, sans-serif\; font-size: 12px\; line-height: normal\;">Join us on Tuesday\, April 22\, 2014 for a business networking lunch and annual meeting at Forbidden City Restaurant from 11:30am - 1:00pm.&nbsp\;</span><br style="color: rgb(0\, 0\, 0)\; font-family: Arial\, Helvetica\, sans-serif\; font-size: 12px\; line-height: normal\;" />\n&nbsp\;\n<div style="color: rgb(0\, 0\, 0)\; font-family: Arial\, Helvetica\, sans-serif\; font-size: 12px\; line-height: normal\;">\n<div>The purpose of the Chamber Annual Meeting is to elect the new third-year term Board of Directors for the 2014-2015 Fiscal Year.</div>\n&nbsp\;\n\n<div>Come and network with local businesses and Chamber Board Directors\, past\, present and future!</div>\n&nbsp\;\n\n<div>Buffet lunch is included with admission.</div>\n</div>\n<br style="color: rgb(0\, 0\, 0)\; font-family: Arial\, Helvetica\, sans-serif\; font-size: 12px\; line-height: normal\;" />\n<span style="color: rgb(0\, 0\, 0)\; font-family: Arial\, Helvetica\, sans-serif\; font-size: 12px\; line-height: normal\;">Members pay only&nbsp\; $20. Non-Members pay $30.</span>\n\n<div style="color: rgb(0\, 0\, 0)\; font-family: Arial\, Helvetica\, sans-serif\; font-size: 12px\; line-height: normal\;">Pre-registration is strongly suggested!</div>\n\n<p style="color: rgb(0\, 0\, 0)\; font-family: Arial\, Helvetica\, sans-serif\; font-size: 12px\; line-height: normal\; margin-top: 0px\; margin-bottom: 0px\;">&nbsp\;</p>\n
LOCATION:Forbidden City Restaurant 6380-A East Pacific Coast Hwy. Long Beach\, CA 90803
UID:e.1956.1237
SEQUENCE:3
DTSTAMP:20260422T152309Z
URL:https://business.lbchamber.com/events/details/good-afternoon-long-beach-business-networking-lunch-annual-meeting-04-22-2014-1237
END:VEVENT

END:VCALENDAR
