BEGIN:VCALENDAR
VERSION:2.0
PRODID:-//ChamberMaster//Event Calendar 2.0//EN
METHOD:PUBLISH
X-PUBLISHED-TTL:P3D
REFRESH-INTERVAL:P3D
CALSCALE:GREGORIAN
BEGIN:VEVENT
DTSTART:20150414T183000Z
DTEND:20150414T200000Z
X-MICROSOFT-CDO-ALLDAYEVENT:FALSE
SUMMARY:Good Afternoon Long Beach: Annual Meeting
DESCRIPTION:The purpose of the Chamber Annual Meeting is to elect the new third-year term Board of Directors for the 2015-2016 Fiscal Year.\n\n\n\nCome and network with local businesses and Chamber Board members\, past\, present and future!
X-ALT-DESC;FMTTYPE=text/html:The purpose of the Chamber Annual Meeting is to elect the new third-year term Board of Directors for the 2015-2016 Fiscal Year.<br />\n<br />\nCome and network with local businesses and Chamber Board members\, past\, present and future!
LOCATION:Parkers' Lighthouse 435 Shoreline Village Dr. Long Beach\, CA 90802
UID:e.1956.2422
SEQUENCE:3
DTSTAMP:20260421T223342Z
URL:https://business.lbchamber.com/events/details/good-afternoon-long-beach-annual-meeting-04-14-2015-2422
END:VEVENT

END:VCALENDAR
