BEGIN:VCALENDAR
VERSION:2.0
PRODID:-//ChamberMaster//Event Calendar 2.0//EN
METHOD:PUBLISH
X-PUBLISHED-TTL:P3D
REFRESH-INTERVAL:P3D
CALSCALE:GREGORIAN
BEGIN:VEVENT
DTSTART:20140311T183000Z
DTEND:20140311T200000Z
X-MICROSOFT-CDO-ALLDAYEVENT:FALSE
SUMMARY:Good Afternoon Long Beach 3/11/14
DESCRIPTION:Featured Speakers are the Long Beach Area Chamber of Commerce Political Action Committee endorsed candidates.
X-ALT-DESC;FMTTYPE=text/html:Featured Speakers are the Long Beach Area Chamber of Commerce Political Action Committee endorsed candidates.
LOCATION:Forbidden City Restaurant 6380-A East Pacific Coast Hwy Long Beach\, CA 90803
UID:e.1956.1197
SEQUENCE:3
DTSTAMP:20260422T162928Z
URL:https://business.lbchamber.com/events/details/good-afternoon-long-beach-3-11-14-03-11-2014-1197
END:VEVENT

END:VCALENDAR
