BEGIN:VCALENDAR
VERSION:2.0
PRODID:-//ChamberMaster//Event Calendar 2.0//EN
METHOD:PUBLISH
X-PUBLISHED-TTL:P3D
REFRESH-INTERVAL:P3D
CALSCALE:GREGORIAN
BEGIN:VEVENT
DTSTART:20151110T193000Z
DTEND:20151110T210000Z
X-MICROSOFT-CDO-ALLDAYEVENT:FALSE
SUMMARY:Good Afternoon Long Beach
DESCRIPTION:Tuesday\, November 10th - - Come join us for our networking lunch in the exclusive Queensview Steakhouse at Parkers' Lighthouse!\n\n\n\nSpecial Guest Speaker: Christopher Garner\, General Manger\, Long Beach Water Department\n\n\n\nCHRISTOPHER GARNER WILL DISCUSS HOW THE LONG BEACH WATER DEPARTMENT IS HELPING US THROUGH THE DROUGHT
X-ALT-DESC;FMTTYPE=text/html:<em>Tuesday\, November 10th - - Come join us for our networking lunch in the exclusive Queensview Steakhouse at Parkers&#39\; Lighthouse!</em><br />\n<br />\nSpecial Guest Speaker: Christopher Garner\, General Manger\, Long Beach Water Department<br />\n<br />\n<em><strong>CHRISTOPHER GARNER WILL DISCUSS HOW THE LONG BEACH WATER DEPARTMENT IS HELPING US THROUGH THE DROUGHT</strong></em><br />\n<br />\n<strong>&nbsp\; &nbsp\; &nbsp\; &nbsp\; &nbsp\; &nbsp\; &nbsp\; &nbsp\; &nbsp\; &nbsp\; &nbsp\; &nbsp\; &nbsp\; &nbsp\; &nbsp\; &nbsp\; &nbsp\;</strong>
LOCATION:Parkers' Lighthouse 435 Shoreline Village Dr. Long Beach\, CA 90802-4550
UID:e.1956.2545
SEQUENCE:3
DTSTAMP:20260420T194434Z
URL:https://business.lbchamber.com/events/details/good-afternoon-long-beach-11-10-2015-2545
END:VEVENT

END:VCALENDAR
