BEGIN:VCALENDAR
VERSION:2.0
PRODID:-//ChamberMaster//Event Calendar 2.0//EN
METHOD:PUBLISH
X-PUBLISHED-TTL:P3D
REFRESH-INTERVAL:P3D
CALSCALE:GREGORIAN
BEGIN:VEVENT
DTSTART:20141104T193000Z
DTEND:20141104T210000Z
X-MICROSOFT-CDO-ALLDAYEVENT:FALSE
SUMMARY:Good Afternoon Long Beach
DESCRIPTION:Speaker: Councilwoman Lena Gonzalez\n\nTopic: "The First 100 Days in Office and Plans for the 1st District"\n\n\n\nCouncilwoman Lena Gonzalez currently serves as the First District member of the Long Beach\, CA City Council after her election in June 2014. This district includes much of downtown and the central part of the city\, with a portion of the Westside. She is also very involved politically and in 2012 was elected as a State Delegate for California's 70th Assembly District while also serving as President for the Long Beach Democrats.\n\n\n\nPrevious to her election\, Councilwoman Gonzalez attended California State University\, Long Beach\, where she received her Bachelor of Arts in Political Science. It was in through that experience that she came in contact with (then) Councilmember Robert Garcia\, who brought her into his office as the First District Field Deputy. In that role she oversaw community improvement projects and facilitated contact between the First District and its constituents. She worked with local neighborhood associations\, different types of businesses\, and city staff to improve the living and working conditions of the First District.
X-ALT-DESC;FMTTYPE=text/html:Speaker: Councilwoman Lena Gonzalez<br />\nTopic: &quot\;The First 100 Days in Office and Plans for the 1st&nbsp\;District&quot\;<br />\n<br />\nCouncilwoman Lena Gonzalez currently serves as the First District member of the Long Beach\, CA City Council after her election in June 2014. This district includes much of downtown and the central part of the city\, with a portion of the Westside. She is also very involved politically and in 2012 was elected as a State Delegate for California&#39\;s 70th Assembly District while also serving as President for the Long Beach Democrats.<br />\n<br />\nPrevious to her election\, Councilwoman Gonzalez attended California State University\, Long Beach\, where she received&nbsp\;her Bachelor of Arts in Political Science. It was in through that experience that she came in contact with (then) Councilmember Robert Garcia\, who brought her into his office as the First District Field Deputy. In that role she oversaw community improvement projects and facilitated contact between the First District and its constituents. She worked with local neighborhood associations\, different types of businesses\, and city staff to improve the living and working conditions of the First District.&nbsp\;
LOCATION:La Traviata 301 N Cedar Ave Long Beach\, CA 90802 *please keep parking in mind metered parking\, $4.00 parking at 3rd and Chestnut or 25 cents for each half hour
UID:e.1956.2332
SEQUENCE:3
DTSTAMP:20260422T051441Z
URL:https://business.lbchamber.com/events/details/good-afternoon-long-beach-11-04-2014-2332
END:VEVENT

END:VCALENDAR
