BEGIN:VCALENDAR
VERSION:2.0
PRODID:-//ChamberMaster//Event Calendar 2.0//EN
METHOD:PUBLISH
X-PUBLISHED-TTL:P3D
REFRESH-INTERVAL:P3D
CALSCALE:GREGORIAN
BEGIN:VEVENT
DTSTART:20141014T183000Z
DTEND:20141014T200000Z
X-MICROSOFT-CDO-ALLDAYEVENT:FALSE
SUMMARY:Good Afternoon Long Beach
DESCRIPTION:Speaker: Vic Cegles\, Director of Athletics\n\n\n\nIn eight seasons as the Director of Athletics\, Vic Cegles has ushered Long Beach State into another golden era of success\, while streamlining the department's operation and development. Cegles\, who was hired as the school's 12th Director of Athletics in April 2006\, has made an impact in the athletic department's ability to fundraise which is key to his goal of making Long Beach State not only the premiere school in the Big West Conference\, but a player on the national stage when it comes to both athletics and academics. \n\n\n\nCegles served as assistant basketball coach at Carnegie Mellon University and as an assistant basketball and baseball coach at West Virginia Wesleyan College and Indiana University of Pennsylvania. He holds a degree in business administration from Bucknell and a master's in counseling and student personnel services from Indiana University of Pennsylvania.
X-ALT-DESC;FMTTYPE=text/html:Speaker: Vic Cegles\, Director of Athletics<br />\n<br />\nIn eight seasons as the Director of Athletics\, Vic Cegles has ushered Long Beach State into another golden era of success\, while streamlining the department&#39\;s operation and development. Cegles\, who was hired as the school&#39\;s 12th Director of Athletics in April 2006\, has made an impact in the athletic department&#39\;s ability to fundraise which is key to his goal of making Long Beach State not only the premiere school in the Big West Conference\, but a player on the national stage when it comes to both athletics and academics.&nbsp\;<br />\n<br />\nCegles served as assistant basketball coach at Carnegie Mellon University and as an assistant basketball and baseball coach at West Virginia Wesleyan College and Indiana University of Pennsylvania. He holds a degree in business administration from Bucknell and a master&#39\;s in counseling and student personnel services from Indiana University of Pennsylvania.&nbsp\;
LOCATION:La Traviata 301 N Cedar Ave Long Beach\, CA 90802 *please keep parking in mind metered parking\, $3.00 parking at 3rd and Chestnut or 25 cents for each half hour
UID:e.1956.2300
SEQUENCE:3
DTSTAMP:20260422T064103Z
URL:https://business.lbchamber.com/events/details/good-afternoon-long-beach-10-14-2014-2300
END:VEVENT

END:VCALENDAR
