BEGIN:VCALENDAR
VERSION:2.0
PRODID:-//ChamberMaster//Event Calendar 2.0//EN
METHOD:PUBLISH
X-PUBLISHED-TTL:P3D
REFRESH-INTERVAL:P3D
CALSCALE:GREGORIAN
BEGIN:VEVENT
DTSTART:20160913T183000Z
DTEND:20160913T200000Z
X-MICROSOFT-CDO-ALLDAYEVENT:FALSE
SUMMARY:Good Afternoon Long Beach 091316
DESCRIPTION:Featured Speaker:\n\nRod Imbriani\n\nVP of Product Development\n\nFrontier Communications\n\n\n\nRod Imbriani is Vice President\, Product Development for Frontier Communications.  In this role he has responsibility for the company's development and management of core commercial products.\n\nRod has a deep background in all facets of marketing\, channel\, and product management.  Prior to joining Frontier\, Rod served within Marketing at other Telecommunications companies such as FairPoint Communications\, CenturyTel\, Qwest and MCI.\n\nHe started his telecommunications career at AT&T Bell Labs and US WEST Advanced Technologies as a developer of telecommunications services\, working on PBXs.  \n\nRod is a graduate of The University of Colorado\, graduating with a Bachelors of Arts in Mathematics as well as a Masters of Business Administration.  Rod lives in the Dallas area with his wife of 24 years and their two children.
X-ALT-DESC;FMTTYPE=text/html:<p style="color: rgb(34\, 34\, 34)\; font-family: arial\, sans-serif\; font-size: 12.8px\; line-height: normal\;"><span style="font-size:12px\;"><span style="font-family:arial\;"><span style="font-size:10px\;"><em>Featured Speaker:</em></span><br />\n<span style="font-size:16px\;"><strong>Rod Imbriani</strong><br />\nVP of Product Development<br />\n<strong>Frontier Communications</strong></span><br />\n<br />\nRod Imbriani&nbsp\;is Vice President\, Product Development for Frontier Communications.&nbsp\; In this role he has responsibility for the company&rsquo\;s development and management of core commercial products.</span></span></p>\n\n<p style="color: rgb(34\, 34\, 34)\; font-family: arial\, sans-serif\; font-size: 12.8px\; line-height: normal\;"><span style="font-size:12px\;"><span style="font-family:arial\;">Rod has a deep background in all facets of marketing\, channel\, and product management.&nbsp\; Prior to joining Frontier\, Rod served within Marketing at other Telecommunications companies such as FairPoint Communications\, CenturyTel\, Qwest and MCI.</span></span></p>\n\n<p style="color: rgb(34\, 34\, 34)\; font-family: arial\, sans-serif\; font-size: 12.8px\; line-height: normal\;"><span style="font-size:12px\;"><span style="font-family:arial\;">He started his telecommunications career at AT&amp\;T Bell Labs and US WEST Advanced Technologies as a developer of telecommunications services\, working on PBXs.&nbsp\;&nbsp\;</span></span></p>\n\n<p style="color: rgb(34\, 34\, 34)\; font-family: arial\, sans-serif\; font-size: 12.8px\; line-height: normal\;"><span style="font-size:12px\;"><span style="font-family:arial\;">Rod is a graduate of The University of Colorado\, graduating with a Bachelors of Arts in Mathematics as well as a Masters of Business Administration.&nbsp\; Rod lives in the Dallas area with his wife of 24 years and their two children.</span></span></p>\n
LOCATION:Parkers' Lighthouse 435 Shoreline Village Drive Long Beach\, CA 90802
UID:e.1956.2601
SEQUENCE:3
DTSTAMP:20260420T060255Z
URL:https://business.lbchamber.com/events/details/good-afternoon-long-beach-091316-09-13-2016-2601
END:VEVENT

END:VCALENDAR
