BEGIN:VCALENDAR
VERSION:2.0
PRODID:-//ChamberMaster//Event Calendar 2.0//EN
METHOD:PUBLISH
X-PUBLISHED-TTL:P3D
REFRESH-INTERVAL:P3D
CALSCALE:GREGORIAN
BEGIN:VEVENT
DTSTART:20140909T183000Z
DTEND:20140909T200000Z
X-MICROSOFT-CDO-ALLDAYEVENT:FALSE
SUMMARY:Good Afternoon Long Beach
DESCRIPTION:Featured Speaker:\n\nRosalind Henderson\, Owner\, Life Keys Unlimited Consults\n\n\n\nPresenting: "Leading to Transform"\n\n\n\nProfessor Rosalind Henderson empowers small business owners and leadership clients with powerful\, research-based strategies to remove restraints\, enabling them to reach goals once thought unachievable. Rosalind's highly developed observational and relationship skills along with her background in psychology aids her in understanding the client's challenges clearly. As a result\, clients have been greatly transformened by her candor\, warmth and wisdom. Through Professor Rosalind's system of personal and leadership development\, the leader\, team and organization achieve desired results.\n\n\n\nFears\, poor motivation\, lack of self-awareness\, unproductive beliefs and negative thinking styles can block achievement\, but are transformed through Rosalind's seminars\, leadership coaching\, keynote presentations\, CD products and books.
X-ALT-DESC;FMTTYPE=text/html:Featured Speaker:<br />\nRosalind Henderson\, <em>Owner</em>\, Life Keys Unlimited Consults<br />\n<br />\nPresenting: &quot\;Leading to Transform&quot\;<br />\n<br />\nProfessor Rosalind Henderson empowers small business owners and leadership clients with powerful\, research-based strategies to remove restraints\, enabling them to reach goals once thought unachievable. Rosalind&#39\;s highly developed observational and relationship skills along with her background in psychology aids her in understanding the client&#39\;s challenges clearly. As a result\, clients have been greatly transformened by her candor\, warmth and wisdom. Through Professor Rosalind&#39\;s system of personal and leadership development\, the leader\, team and organization achieve desired results.<br />\n<br />\nFears\, poor motivation\, lack of self-awareness\, unproductive beliefs and negative thinking styles can block achievement\, but are transformed through Rosalind&#39\;s seminars\, leadership coaching\, keynote presentations\, CD products and books.<br />\n<br />\n<br />\n&nbsp\;
LOCATION:La Traviata 301 N Cedar Ave Long Beach\, CA 90802 *please keep parking in mind metered parking\, $4.00 parking at 3rd and Chestnut or 25 cents for each half hour
UID:e.1956.1266
SEQUENCE:3
DTSTAMP:20260422T075343Z
URL:https://business.lbchamber.com/events/details/good-afternoon-long-beach-09-09-2014-1266
END:VEVENT

END:VCALENDAR
