BEGIN:VCALENDAR
VERSION:2.0
PRODID:-//ChamberMaster//Event Calendar 2.0//EN
METHOD:PUBLISH
X-PUBLISHED-TTL:P3D
REFRESH-INTERVAL:P3D
CALSCALE:GREGORIAN
BEGIN:VEVENT
DTSTART:20150908T183000Z
DTEND:20150908T200000Z
X-MICROSOFT-CDO-ALLDAYEVENT:FALSE
SUMMARY:Good Afternoon Long Beach
DESCRIPTION:Join us for our monthly Good Afternoon Long Beach Networking Luncheon on Tuesday\, September 8\, 2015\, featuring Darwin Vande Hoef! \n\nDarwin has been helping small to medium - sized businesses with their Human Capital Management challenges for more than 15 years. He brings a systematic way of finding the right solution that delivers the results his clients are trying to achieve. When he's not offering relief for his clients\, he also loves to spend time with his other passions\; coaching his daughter's soccer team\, coaching high school track and field\, and spending time with family and friends in the Long Beach area. \n\nInsperity\, a trusted advisor to America's best businesses for more than 25 years\, provides an array of human resources and business solutions designed to help improve business performance. Serving more than 100\,000 businesses with over 2 million employees\, Insperity's mission is to help businesses succeed so communities prosper. We provide a wide range of business performance solutions\, enabling business owners to be more systematic and strategic about the role people play in the success of a company. Whether you have ten employees or 5\,000\, Insperity's business solutions are tailored to helping you run your business more efficiently.
X-ALT-DESC;FMTTYPE=text/html:Join us for our monthly Good Afternoon Long Beach Networking Luncheon on Tuesday\, September 8\, 2015\, featuring Darwin Vande&nbsp\;Hoef!&nbsp\;<br />\nDarwin has been helping small to medium - sized businesses with their Human Capital Management challenges for more than 15 years. He brings a systematic way of finding the right solution that delivers the results his clients are trying to achieve. When he&#39\;s not offering relief for his clients\, he also loves to spend time with his other passions\; coaching his daughter&#39\;s soccer team\, coaching high school track and field\, and spending time with family and friends in the Long Beach area.&nbsp\;<br />\nInsperity\, a trusted advisor to America&#39\;s best businesses for more than 25 years\, provides an array of human resources and business solutions designed to help improve business performance. Serving more than 100\,000 businesses with over 2 million employees\, Insperity&#39\;s mission is to help businesses succeed so communities prosper. We provide a wide range of business performance solutions\, enabling business owners to be more systematic and strategic about the role people play in the success of a company. Whether you have ten employees or 5\,000\, Insperity&#39\;s business solutions are tailored to helping you run your business more efficiently.&nbsp\;
LOCATION:Parkers' Lighthouse 425 Shoreline Village Dr. Long Beach\, CA 90802
UID:e.1956.2496
SEQUENCE:3
DTSTAMP:20260420T222616Z
URL:https://business.lbchamber.com/events/details/good-afternoon-long-beach-09-08-2015-2496
END:VEVENT

END:VCALENDAR
