BEGIN:VCALENDAR
VERSION:2.0
PRODID:-//ChamberMaster//Event Calendar 2.0//EN
METHOD:PUBLISH
X-PUBLISHED-TTL:P3D
REFRESH-INTERVAL:P3D
CALSCALE:GREGORIAN
BEGIN:VEVENT
DTSTART:20140812T183000Z
DTEND:20140812T200000Z
X-MICROSOFT-CDO-ALLDAYEVENT:FALSE
SUMMARY:Good Afternoon Long Beach
DESCRIPTION:Featured Speaker:\n\nAdam Anderson\n\n \n\nPresenting:\n\nCollective Impact to End Human Trafficking\n\n \n\nIn January 2012 Adam took on the role of Executive Director of Kingdom Causes Long Beach\, where he applies much of what he learned coaching and developing young leaders to helping organizations from every sector of the city work together efficiently from their assets to pursue community transformation collectively.  He and his partners' pursuit of a Collective Impact solution to ending Human Trafficking in the greater Long Beach area have earned awards from the Department of Homeland Security\, support from Don Knabe's office\, 2 proclamations from the City of Long Beach and a Certificate of support from Crittenton Services for Children and Families.\n\n \n\nKingdom Causes Long Beach is a non-profit organization that seeks the Shalom (wholeness\, peace and prosperity) of Long Beach by discovering\, connecting and activating the gifts of the city for community transformation.
X-ALT-DESC;FMTTYPE=text/html:Featured Speaker:<br />\nAdam Anderson<br />\n&nbsp\;<br />\nPresenting:<br />\n<em>Collective Impact to End Human Trafficking</em><br />\n&nbsp\;<br />\nIn January 2012 Adam took on the role of Executive Director of Kingdom Causes Long Beach\, where he applies much of what he learned coaching and developing young leaders to helping organizations from every sector of the city work together efficiently from their assets to pursue community transformation collectively.&nbsp\; He and his partners&rsquo\; pursuit of a Collective Impact solution to ending Human Trafficking in the greater Long Beach area have earned awards from the Department of Homeland Security\, support from Don Knabe&rsquo\;s office\, 2 proclamations from the City of Long Beach and a Certificate of support from Crittenton Services for Children and Families.<br />\n&nbsp\;<br />\nKingdom Causes Long Beach is a non-profit organization that seeks the Shalom (wholeness\, peace and prosperity) of Long Beach by discovering\, connecting and activating the gifts of the city for community transformation.<br />\n&nbsp\;
LOCATION:La Traviata 301 N Cedar Ave Long Beach\, CA 90802 *please keep parking in mind metered parking\, $4.00 parking at 3rd and Chestnut or 25 cents for each half hour
UID:e.1956.1263
SEQUENCE:3
DTSTAMP:20260422T092648Z
URL:https://business.lbchamber.com/events/details/good-afternoon-long-beach-08-12-2014-1263
END:VEVENT

END:VCALENDAR
