BEGIN:VCALENDAR
VERSION:2.0
PRODID:-//ChamberMaster//Event Calendar 2.0//EN
METHOD:PUBLISH
X-PUBLISHED-TTL:P3D
REFRESH-INTERVAL:P3D
CALSCALE:GREGORIAN
BEGIN:VEVENT
DTSTART:20160614T183000Z
DTEND:20160614T200000Z
X-MICROSOFT-CDO-ALLDAYEVENT:FALSE
SUMMARY:Good Afternoon Long Beach 061416
DESCRIPTION:Glenn Pomeroy\, Chief Executive Officer\, California Earthquake Authority\n\nJoined CEA: 2008\n\nEducation: B.S.\, J.D.\n\nChief Executive Officer Glenn Pomeroy has led bipartisan congressional efforts to reduce the cost of earthquake insurance. Glenn has further diversified and expanded CEA claim-paying resources by issuing the first earthquake- only catastrophe bond without involvement of traditional reinsurers.\nAfter law school\, Glenn began his career at the age of 22\, when he was elected to the North Dakota House of Representatives. Six years later\, Glenn continued serving the state as county prosecutor\, assistant attorney general\, and North Dakota securities commissioner. In 1992\, he was elected North Dakota insurance commissioner and re-elected four years later. His colleagues in the National Association of Insurance Commissioners selected Glenn to serve as their president\, and he guided a number of initiatives on behalf of the nation's insurance commissioners. In 2001\, Glenn became head of Government and Regulatory Affairs for GE Insurance Solutions\, and worked in a similar capacity for Swiss Re until joining CEA in 2008.
X-ALT-DESC;FMTTYPE=text/html:<p dir="ltr" style="line-height:1.2\;margin-top:5pt\;margin-bottom:14pt\;"><span style="font-family:tahoma\;"><span style="font-size:14px\;"><span id="docs-internal-guid-bdd8b737-d030-05f4-577e-7e9859257fd8"><span style="color: rgb(0\, 0\, 0)\; background-color: transparent\; font-weight: 700\; font-variant-ligatures: normal\; font-variant-position: normal\; font-variant-numeric: normal\; font-variant-alternates: normal\; font-variant-east-asian: normal\; vertical-align: baseline\; white-space: pre-wrap\;">Glenn Pomeroy\, Chief Executive Officer\, California Earthquake Authority</span></span></span></span></p>\n\n<p dir="ltr" style="line-height:1.2\;margin-top:0pt\;margin-bottom:14pt\;"><span style="font-family:tahoma\;"><span style="font-size:14px\;"><span id="docs-internal-guid-bdd8b737-d030-05f4-577e-7e9859257fd8"><span style="color: rgb(0\, 0\, 0)\; background-color: transparent\; font-variant-ligatures: normal\; font-variant-position: normal\; font-variant-numeric: normal\; font-variant-alternates: normal\; font-variant-east-asian: normal\; vertical-align: baseline\; white-space: pre-wrap\;">Joined CEA: 2008</span><br class="kix-line-break" />\n<span style="color: rgb(0\, 0\, 0)\; background-color: transparent\; font-variant-ligatures: normal\; font-variant-position: normal\; font-variant-numeric: normal\; font-variant-alternates: normal\; font-variant-east-asian: normal\; vertical-align: baseline\; white-space: pre-wrap\;">Education: B.S.\, J.D.</span></span></span></span></p>\n\n<p dir="ltr" style="line-height:1.2\;margin-top:0pt\;margin-bottom:14pt\;"><span style="font-family:tahoma\;"><span style="font-size:14px\;"><span id="docs-internal-guid-bdd8b737-d030-05f4-577e-7e9859257fd8"><span style="color: rgb(0\, 0\, 0)\; background-color: transparent\; font-variant-ligatures: normal\; font-variant-position: normal\; font-variant-numeric: normal\; font-variant-alternates: normal\; font-variant-east-asian: normal\; vertical-align: baseline\; white-space: pre-wrap\;">Chief Executive Officer Glenn Pomeroy has led bipartisan congressional efforts to reduce the cost of earthquake insurance. Glenn has further diversified and expanded CEA claim-paying resources by issuing the first earthquake- only catastrophe bond without involvement of traditional reinsurers.</span></span></span></span></p>\n<span style="font-family:tahoma\;"><span style="font-size:14px\;"><span id="docs-internal-guid-bdd8b737-d030-05f4-577e-7e9859257fd8"><span style="color: rgb(0\, 0\, 0)\; background-color: transparent\; font-variant-ligatures: normal\; font-variant-position: normal\; font-variant-numeric: normal\; font-variant-alternates: normal\; font-variant-east-asian: normal\; vertical-align: baseline\; white-space: pre-wrap\;">After law school\, Glenn began his career at the age of 22\, when he was elected to the North Dakota House of Representatives. Six years later\, Glenn continued serving the state as county prosecutor\, assistant attorney general\, and North Dakota securities commissioner. In 1992\, he was elected North Dakota insurance commissioner and re-elected four years later. His colleagues in the National Association of Insurance Commissioners selected Glenn to serve as their president\, and he guided a number of initiatives on behalf of the nation&#39\;s insurance commissioners. In 2001\, Glenn became head of Government and Regulatory Affairs for GE Insurance Solutions\, and worked in a similar capacity for Swiss Re until joining CEA in 2008.</span></span></span></span>
LOCATION:Parkers' Lighthouse 435 Shoreline Village Drive Long Beach\, CA 90802
UID:e.1956.2598
SEQUENCE:3
DTSTAMP:20260422T101812Z
URL:https://business.lbchamber.com/events/details/good-afternoon-long-beach-061416-06-14-2016-2598
END:VEVENT

END:VCALENDAR
