BEGIN:VCALENDAR
VERSION:2.0
PRODID:-//ChamberMaster//Event Calendar 2.0//EN
METHOD:PUBLISH
X-PUBLISHED-TTL:P3D
REFRESH-INTERVAL:P3D
CALSCALE:GREGORIAN
BEGIN:VEVENT
DTSTART:20170613T183000Z
DTEND:20170613T200000Z
X-MICROSOFT-CDO-ALLDAYEVENT:FALSE
SUMMARY:Good Afternoon Long Beach 06/13/17
DESCRIPTION:Get to Know Your Fellow Business Members!\n\n\n\nEach of the attendees will have 30 seconds to present an introduction to their business. So have your best elevator pitch ready and bring plenty of business cards.  Hope to see you there!
X-ALT-DESC;FMTTYPE=text/html:<br />\n<em><strong>Get to Know Your Fellow Business Members!</strong></em><br />\n<br />\nEach of the attendees will have 30 seconds to&nbsp\;present an introduction to their business. So have your best&nbsp\;elevator pitch ready and bring plenty of business cards. &nbsp\;Hope to see you there!
LOCATION:Parkers' Lighthouse 435 Shoreline Village Dr Long Beach\, CA 90802
UID:e.1956.3100
SEQUENCE:3
DTSTAMP:20260419T163839Z
URL:https://business.lbchamber.com/events/details/good-afternoon-long-beach-06-13-17-3100
END:VEVENT

END:VCALENDAR
