BEGIN:VCALENDAR
VERSION:2.0
PRODID:-//ChamberMaster//Event Calendar 2.0//EN
METHOD:PUBLISH
X-PUBLISHED-TTL:P3D
REFRESH-INTERVAL:P3D
CALSCALE:GREGORIAN
BEGIN:VEVENT
DTSTART:20140610T183000Z
DTEND:20140610T200000Z
X-MICROSOFT-CDO-ALLDAYEVENT:FALSE
SUMMARY:Good Afternoon Long Beach
DESCRIPTION:Our featured speaker is Dave Klewan\, General Manager at Management Plus Enterprises. Dave is a dynamic\, results-oriented leader with a strong track record of performance in diverse high-paced organizations (start-ups\, turnarounds and high-growth stage businesses)\, Dave brings over 17 years of sports management and execution expertise to Management Plus Enterprises. Mr. Klewan will talk about the upcoming World Series of Beach Volleyball and the economic impacts to Long Beach.
X-ALT-DESC;FMTTYPE=text/html:<span style="background-position:initial initial\;background-repeat:initial initial\;"><span style="font-family:arial\,sans-serif\;"><span style="font-size:9.5pt\;">Our featured speaker is </span></span></span>Dave Klewan\, General Manager at&nbsp\;Management Plus Enterprises. Dave is a dynamic\, results-oriented leader with a strong track record of performance in diverse high-paced organizations (start-ups\, turnarounds and high-growth stage businesses)\, Dave brings over 17 years of sports management and execution expertise to Management Plus Enterprises.&nbsp\;<span style="color: rgb(34\, 34\, 34)\; font-family: arial\, sans-serif\; font-size: 13px\; line-height: normal\;">Mr. Klewan will talk about the upcoming World Series of Beach Volleyball and the economic impacts to Long Beach.</span>
LOCATION:Forbidden City Restaurant 6380-A East Pacific Coast Hwy Long Beach\, CA 90803
UID:e.1956.1243
SEQUENCE:3
DTSTAMP:20260422T123920Z
URL:https://business.lbchamber.com/events/details/good-afternoon-long-beach-06-10-2014-1243
END:VEVENT

END:VCALENDAR
