BEGIN:VCALENDAR
VERSION:2.0
PRODID:-//ChamberMaster//Event Calendar 2.0//EN
METHOD:PUBLISH
X-PUBLISHED-TTL:P3D
REFRESH-INTERVAL:P3D
CALSCALE:GREGORIAN
BEGIN:VEVENT
DTSTART:20160510T183000Z
DTEND:20160510T200000Z
X-MICROSOFT-CDO-ALLDAYEVENT:FALSE
SUMMARY:Good Afternoon Long Beach 051016
DESCRIPTION:Connecting Business with Career Development at CSULB\n\n\n\nPlease join us as our featured speaker will be Manuel Perez\, Director of the Career Development Center at CSULB.
X-ALT-DESC;FMTTYPE=text/html:<em><strong>Connecting Business with Career Development at CSULB</strong></em><br />\n<br />\nPlease join us as our featured speaker will be Manuel Perez\, Director of the Career Development Center at CSULB.
LOCATION:Parkers' Lighthouse 435 Shoreline Village Drive Long Beach\, CA 90802
UID:e.1956.2597
SEQUENCE:3
DTSTAMP:20260420T114420Z
URL:https://business.lbchamber.com/events/details/good-afternoon-long-beach-051016-05-10-2016-2597
END:VEVENT

END:VCALENDAR
