BEGIN:VCALENDAR
VERSION:2.0
PRODID:-//ChamberMaster//Event Calendar 2.0//EN
METHOD:PUBLISH
X-PUBLISHED-TTL:P3D
REFRESH-INTERVAL:P3D
CALSCALE:GREGORIAN
BEGIN:VEVENT
DTSTART:20150512T183000Z
DTEND:20150512T200000Z
X-MICROSOFT-CDO-ALLDAYEVENT:FALSE
SUMMARY:Good Afternoon Long Beach
DESCRIPTION:We will deliver information on how businesses can understand and better use multiple digital platforms to target audiences to improve and grow their businesses. \n\n\n\nDigital media has quickly changed the way consumers shop and make purchasing decisions and we will review the consumer journey including Search Marketing\, Social Media and Mobile marketing. \n\n\n\nThis promises to be a great session and will be presented by:\n\n	Paul Ingegneri\, V.P. of Advertising for the Los Angeles Newspaper Group/Digital First Media\n	Yasmine Vatare\, Digital Sales Manager for the Los Angeles Newspaper Group/Digital First Media\n	Craig Hymovitz\, Advertising Manager The Press Telegram\n\nCome join us for our next networking lunch in the exclusive Queensview Steakhouse at Parkers' Lighthouse!
X-ALT-DESC;FMTTYPE=text/html:We will deliver information on how businesses can understand and better use multiple digital platforms to target audiences to improve and grow their businesses.&nbsp\;<br />\n<br />\nDigital media has quickly changed the way consumers shop and make purchasing decisions and we will review the consumer journey including Search Marketing\, Social Media and Mobile marketing.&nbsp\;<br />\n<br />\nThis promises to be a great session and will be presented by:\n<ul>\n	<li>Paul Ingegneri\,&nbsp\;V.P. of Advertising for the Los Angeles Newspaper Group/Digital First Media</li>\n	<li>Yasmine Vatare\, Digital Sales Manager for the Los Angeles Newspaper Group/Digital First Media</li>\n	<li>Craig Hymovitz\, Advertising Manager The Press Telegram</li>\n</ul>\n<em>Come join us for our next networking lunch in the exclusive Queensview Steakhouse at Parkers&#39\; Lighthouse!</em>
LOCATION:Parkers' Lighthouse 435 Shoreline Village Dr. Long Beach\, CA 90802
UID:e.1956.2453
SEQUENCE:3
DTSTAMP:20260421T210352Z
URL:https://business.lbchamber.com/events/details/good-afternoon-long-beach-05-12-2015-2453
END:VEVENT

END:VCALENDAR
